BEGIN:VCALENDAR
VERSION:2.0
PRODID:-//Finnish Bistro - ECPv6.15.20//NONSGML v1.0//EN
CALSCALE:GREGORIAN
METHOD:PUBLISH
X-ORIGINAL-URL:https://www.finnishbistro.com
X-WR-CALDESC:Events for Finnish Bistro
REFRESH-INTERVAL;VALUE=DURATION:PT1H
X-Robots-Tag:noindex
X-PUBLISHED-TTL:PT1H
BEGIN:VTIMEZONE
TZID:America/Chicago
BEGIN:DAYLIGHT
TZOFFSETFROM:-0600
TZOFFSETTO:-0500
TZNAME:CDT
DTSTART:20260308T080000
END:DAYLIGHT
BEGIN:STANDARD
TZOFFSETFROM:-0500
TZOFFSETTO:-0600
TZNAME:CST
DTSTART:20261101T070000
END:STANDARD
BEGIN:DAYLIGHT
TZOFFSETFROM:-0600
TZOFFSETTO:-0500
TZNAME:CDT
DTSTART:20270314T080000
END:DAYLIGHT
BEGIN:STANDARD
TZOFFSETFROM:-0500
TZOFFSETTO:-0600
TZNAME:CST
DTSTART:20271107T070000
END:STANDARD
BEGIN:DAYLIGHT
TZOFFSETFROM:-0600
TZOFFSETTO:-0500
TZNAME:CDT
DTSTART:20280312T080000
END:DAYLIGHT
BEGIN:STANDARD
TZOFFSETFROM:-0500
TZOFFSETTO:-0600
TZNAME:CST
DTSTART:20281105T070000
END:STANDARD
END:VTIMEZONE
BEGIN:VEVENT
DTSTART;TZID=America/Chicago:20270603T143000
DTEND;TZID=America/Chicago:20270603T153000
DTSTAMP:20260424T192352
CREATED:20241121T171808Z
LAST-MODIFIED:20241121T171808Z
UID:10001875-1812033000-1812036600@www.finnishbistro.com
SUMMARY:Senior Social Hour
DESCRIPTION:
URL:https://www.finnishbistro.com/events/senior-social-hour-2/2027-06-03/
LOCATION:The Finnish Bistro\, 2264 Como Avenue\, St. Paul\, MN\, 55108\, United States
ATTACH;FMTTYPE=application/pdf:https://www.finnishbistro.com/wp-content/uploads/2024/11/Senior-Social-Hour-1.pdf
END:VEVENT
BEGIN:VEVENT
DTSTART;TZID=America/Chicago:20270606T170000
DTEND;TZID=America/Chicago:20270606T200000
DTSTAMP:20260424T192352
CREATED:20241121T154518Z
LAST-MODIFIED:20241121T155744Z
UID:10001346-1812301200-1812312000@www.finnishbistro.com
SUMMARY:Open Mic
DESCRIPTION:Sign-ups start at 4:45 pm. \nMore information can be found on our Events & Music page. \n(4) Events & Music at The Finnish Bistro | Facebook
URL:https://www.finnishbistro.com/events/open-mic/2027-06-06/
LOCATION:MN
ATTACH;FMTTYPE=application/pdf:https://www.finnishbistro.com/wp-content/uploads/2024/11/Open-Mic.pdf
END:VEVENT
BEGIN:VEVENT
DTSTART;TZID=America/Chicago:20270607T090000
DTEND;TZID=America/Chicago:20270607T220000
DTSTAMP:20260424T192352
CREATED:20241121T171615Z
LAST-MODIFIED:20241121T171615Z
UID:10001612-1812358800-1812405600@www.finnishbistro.com
SUMMARY:Senior Social Hour
DESCRIPTION:
URL:https://www.finnishbistro.com/events/senior-social-hour/2027-06-07/
LOCATION:The Finnish Bistro\, 2264 Como Avenue\, St. Paul\, MN\, 55108\, United States
ATTACH;FMTTYPE=application/pdf:https://www.finnishbistro.com/wp-content/uploads/2024/11/Senior-Social-Hour.pdf
END:VEVENT
BEGIN:VEVENT
DTSTART;TZID=America/Chicago:20270610T143000
DTEND;TZID=America/Chicago:20270610T153000
DTSTAMP:20260424T192352
CREATED:20241121T171808Z
LAST-MODIFIED:20241121T171808Z
UID:10001876-1812637800-1812641400@www.finnishbistro.com
SUMMARY:Senior Social Hour
DESCRIPTION:
URL:https://www.finnishbistro.com/events/senior-social-hour-2/2027-06-10/
LOCATION:The Finnish Bistro\, 2264 Como Avenue\, St. Paul\, MN\, 55108\, United States
ATTACH;FMTTYPE=application/pdf:https://www.finnishbistro.com/wp-content/uploads/2024/11/Senior-Social-Hour-1.pdf
END:VEVENT
BEGIN:VEVENT
DTSTART;TZID=America/Chicago:20270613T170000
DTEND;TZID=America/Chicago:20270613T200000
DTSTAMP:20260424T192352
CREATED:20241121T154518Z
LAST-MODIFIED:20241121T155744Z
UID:10001347-1812906000-1812916800@www.finnishbistro.com
SUMMARY:Open Mic
DESCRIPTION:Sign-ups start at 4:45 pm. \nMore information can be found on our Events & Music page. \n(4) Events & Music at The Finnish Bistro | Facebook
URL:https://www.finnishbistro.com/events/open-mic/2027-06-13/
LOCATION:MN
ATTACH;FMTTYPE=application/pdf:https://www.finnishbistro.com/wp-content/uploads/2024/11/Open-Mic.pdf
END:VEVENT
BEGIN:VEVENT
DTSTART;TZID=America/Chicago:20270614T090000
DTEND;TZID=America/Chicago:20270614T220000
DTSTAMP:20260424T192352
CREATED:20241121T171615Z
LAST-MODIFIED:20241121T171615Z
UID:10001613-1812963600-1813010400@www.finnishbistro.com
SUMMARY:Senior Social Hour
DESCRIPTION:
URL:https://www.finnishbistro.com/events/senior-social-hour/2027-06-14/
LOCATION:The Finnish Bistro\, 2264 Como Avenue\, St. Paul\, MN\, 55108\, United States
ATTACH;FMTTYPE=application/pdf:https://www.finnishbistro.com/wp-content/uploads/2024/11/Senior-Social-Hour.pdf
END:VEVENT
BEGIN:VEVENT
DTSTART;TZID=America/Chicago:20270617T143000
DTEND;TZID=America/Chicago:20270617T153000
DTSTAMP:20260424T192352
CREATED:20241121T171808Z
LAST-MODIFIED:20241121T171808Z
UID:10001877-1813242600-1813246200@www.finnishbistro.com
SUMMARY:Senior Social Hour
DESCRIPTION:
URL:https://www.finnishbistro.com/events/senior-social-hour-2/2027-06-17/
LOCATION:The Finnish Bistro\, 2264 Como Avenue\, St. Paul\, MN\, 55108\, United States
ATTACH;FMTTYPE=application/pdf:https://www.finnishbistro.com/wp-content/uploads/2024/11/Senior-Social-Hour-1.pdf
END:VEVENT
BEGIN:VEVENT
DTSTART;TZID=America/Chicago:20270620T170000
DTEND;TZID=America/Chicago:20270620T200000
DTSTAMP:20260424T192352
CREATED:20241121T154518Z
LAST-MODIFIED:20241121T155744Z
UID:10001348-1813510800-1813521600@www.finnishbistro.com
SUMMARY:Open Mic
DESCRIPTION:Sign-ups start at 4:45 pm. \nMore information can be found on our Events & Music page. \n(4) Events & Music at The Finnish Bistro | Facebook
URL:https://www.finnishbistro.com/events/open-mic/2027-06-20/
LOCATION:MN
ATTACH;FMTTYPE=application/pdf:https://www.finnishbistro.com/wp-content/uploads/2024/11/Open-Mic.pdf
END:VEVENT
BEGIN:VEVENT
DTSTART;TZID=America/Chicago:20270621T090000
DTEND;TZID=America/Chicago:20270621T220000
DTSTAMP:20260424T192352
CREATED:20241121T171615Z
LAST-MODIFIED:20241121T171615Z
UID:10001614-1813568400-1813615200@www.finnishbistro.com
SUMMARY:Senior Social Hour
DESCRIPTION:
URL:https://www.finnishbistro.com/events/senior-social-hour/2027-06-21/
LOCATION:The Finnish Bistro\, 2264 Como Avenue\, St. Paul\, MN\, 55108\, United States
ATTACH;FMTTYPE=application/pdf:https://www.finnishbistro.com/wp-content/uploads/2024/11/Senior-Social-Hour.pdf
END:VEVENT
BEGIN:VEVENT
DTSTART;TZID=America/Chicago:20270624T143000
DTEND;TZID=America/Chicago:20270624T153000
DTSTAMP:20260424T192352
CREATED:20241121T171808Z
LAST-MODIFIED:20241121T171808Z
UID:10001878-1813847400-1813851000@www.finnishbistro.com
SUMMARY:Senior Social Hour
DESCRIPTION:
URL:https://www.finnishbistro.com/events/senior-social-hour-2/2027-06-24/
LOCATION:The Finnish Bistro\, 2264 Como Avenue\, St. Paul\, MN\, 55108\, United States
ATTACH;FMTTYPE=application/pdf:https://www.finnishbistro.com/wp-content/uploads/2024/11/Senior-Social-Hour-1.pdf
END:VEVENT
BEGIN:VEVENT
DTSTART;TZID=America/Chicago:20270627T170000
DTEND;TZID=America/Chicago:20270627T200000
DTSTAMP:20260424T192352
CREATED:20241121T154518Z
LAST-MODIFIED:20241121T155744Z
UID:10001349-1814115600-1814126400@www.finnishbistro.com
SUMMARY:Open Mic
DESCRIPTION:Sign-ups start at 4:45 pm. \nMore information can be found on our Events & Music page. \n(4) Events & Music at The Finnish Bistro | Facebook
URL:https://www.finnishbistro.com/events/open-mic/2027-06-27/
LOCATION:MN
ATTACH;FMTTYPE=application/pdf:https://www.finnishbistro.com/wp-content/uploads/2024/11/Open-Mic.pdf
END:VEVENT
BEGIN:VEVENT
DTSTART;TZID=America/Chicago:20270628T090000
DTEND;TZID=America/Chicago:20270628T220000
DTSTAMP:20260424T192352
CREATED:20241121T171615Z
LAST-MODIFIED:20241121T171615Z
UID:10001615-1814173200-1814220000@www.finnishbistro.com
SUMMARY:Senior Social Hour
DESCRIPTION:
URL:https://www.finnishbistro.com/events/senior-social-hour/2027-06-28/
LOCATION:The Finnish Bistro\, 2264 Como Avenue\, St. Paul\, MN\, 55108\, United States
ATTACH;FMTTYPE=application/pdf:https://www.finnishbistro.com/wp-content/uploads/2024/11/Senior-Social-Hour.pdf
END:VEVENT
END:VCALENDAR