BEGIN:VCALENDAR
VERSION:2.0
PRODID:-//Finnish Bistro - ECPv6.15.20//NONSGML v1.0//EN
CALSCALE:GREGORIAN
METHOD:PUBLISH
X-ORIGINAL-URL:https://www.finnishbistro.com
X-WR-CALDESC:Events for Finnish Bistro
REFRESH-INTERVAL;VALUE=DURATION:PT1H
X-Robots-Tag:noindex
X-PUBLISHED-TTL:PT1H
BEGIN:VTIMEZONE
TZID:America/Chicago
BEGIN:DAYLIGHT
TZOFFSETFROM:-0600
TZOFFSETTO:-0500
TZNAME:CDT
DTSTART:20260308T080000
END:DAYLIGHT
BEGIN:STANDARD
TZOFFSETFROM:-0500
TZOFFSETTO:-0600
TZNAME:CST
DTSTART:20261101T070000
END:STANDARD
BEGIN:DAYLIGHT
TZOFFSETFROM:-0600
TZOFFSETTO:-0500
TZNAME:CDT
DTSTART:20270314T080000
END:DAYLIGHT
BEGIN:STANDARD
TZOFFSETFROM:-0500
TZOFFSETTO:-0600
TZNAME:CST
DTSTART:20271107T070000
END:STANDARD
BEGIN:DAYLIGHT
TZOFFSETFROM:-0600
TZOFFSETTO:-0500
TZNAME:CDT
DTSTART:20280312T080000
END:DAYLIGHT
BEGIN:STANDARD
TZOFFSETFROM:-0500
TZOFFSETTO:-0600
TZNAME:CST
DTSTART:20281105T070000
END:STANDARD
END:VTIMEZONE
BEGIN:VEVENT
DTSTART;TZID=America/Chicago:20270502T170000
DTEND;TZID=America/Chicago:20270502T200000
DTSTAMP:20260424T173156
CREATED:20241121T154518Z
LAST-MODIFIED:20241121T155744Z
UID:10001341-1809277200-1809288000@www.finnishbistro.com
SUMMARY:Open Mic
DESCRIPTION:Sign-ups start at 4:45 pm. \nMore information can be found on our Events & Music page. \n(4) Events & Music at The Finnish Bistro | Facebook
URL:https://www.finnishbistro.com/events/open-mic/2027-05-02/
LOCATION:MN
ATTACH;FMTTYPE=application/pdf:https://www.finnishbistro.com/wp-content/uploads/2024/11/Open-Mic.pdf
END:VEVENT
BEGIN:VEVENT
DTSTART;TZID=America/Chicago:20270503T090000
DTEND;TZID=America/Chicago:20270503T220000
DTSTAMP:20260424T173156
CREATED:20241121T171615Z
LAST-MODIFIED:20241121T171615Z
UID:10001607-1809334800-1809381600@www.finnishbistro.com
SUMMARY:Senior Social Hour
DESCRIPTION:
URL:https://www.finnishbistro.com/events/senior-social-hour/2027-05-03/
LOCATION:The Finnish Bistro\, 2264 Como Avenue\, St. Paul\, MN\, 55108\, United States
ATTACH;FMTTYPE=application/pdf:https://www.finnishbistro.com/wp-content/uploads/2024/11/Senior-Social-Hour.pdf
END:VEVENT
BEGIN:VEVENT
DTSTART;TZID=America/Chicago:20270506T143000
DTEND;TZID=America/Chicago:20270506T153000
DTSTAMP:20260424T173156
CREATED:20241121T171808Z
LAST-MODIFIED:20241121T171808Z
UID:10001871-1809613800-1809617400@www.finnishbistro.com
SUMMARY:Senior Social Hour
DESCRIPTION:
URL:https://www.finnishbistro.com/events/senior-social-hour-2/2027-05-06/
LOCATION:The Finnish Bistro\, 2264 Como Avenue\, St. Paul\, MN\, 55108\, United States
ATTACH;FMTTYPE=application/pdf:https://www.finnishbistro.com/wp-content/uploads/2024/11/Senior-Social-Hour-1.pdf
END:VEVENT
BEGIN:VEVENT
DTSTART;TZID=America/Chicago:20270509T170000
DTEND;TZID=America/Chicago:20270509T200000
DTSTAMP:20260424T173156
CREATED:20241121T154518Z
LAST-MODIFIED:20241121T155744Z
UID:10001342-1809882000-1809892800@www.finnishbistro.com
SUMMARY:Open Mic
DESCRIPTION:Sign-ups start at 4:45 pm. \nMore information can be found on our Events & Music page. \n(4) Events & Music at The Finnish Bistro | Facebook
URL:https://www.finnishbistro.com/events/open-mic/2027-05-09/
LOCATION:MN
ATTACH;FMTTYPE=application/pdf:https://www.finnishbistro.com/wp-content/uploads/2024/11/Open-Mic.pdf
END:VEVENT
BEGIN:VEVENT
DTSTART;TZID=America/Chicago:20270510T090000
DTEND;TZID=America/Chicago:20270510T220000
DTSTAMP:20260424T173156
CREATED:20241121T171615Z
LAST-MODIFIED:20241121T171615Z
UID:10001608-1809939600-1809986400@www.finnishbistro.com
SUMMARY:Senior Social Hour
DESCRIPTION:
URL:https://www.finnishbistro.com/events/senior-social-hour/2027-05-10/
LOCATION:The Finnish Bistro\, 2264 Como Avenue\, St. Paul\, MN\, 55108\, United States
ATTACH;FMTTYPE=application/pdf:https://www.finnishbistro.com/wp-content/uploads/2024/11/Senior-Social-Hour.pdf
END:VEVENT
BEGIN:VEVENT
DTSTART;TZID=America/Chicago:20270513T143000
DTEND;TZID=America/Chicago:20270513T153000
DTSTAMP:20260424T173156
CREATED:20241121T171808Z
LAST-MODIFIED:20241121T171808Z
UID:10001872-1810218600-1810222200@www.finnishbistro.com
SUMMARY:Senior Social Hour
DESCRIPTION:
URL:https://www.finnishbistro.com/events/senior-social-hour-2/2027-05-13/
LOCATION:The Finnish Bistro\, 2264 Como Avenue\, St. Paul\, MN\, 55108\, United States
ATTACH;FMTTYPE=application/pdf:https://www.finnishbistro.com/wp-content/uploads/2024/11/Senior-Social-Hour-1.pdf
END:VEVENT
BEGIN:VEVENT
DTSTART;TZID=America/Chicago:20270516T170000
DTEND;TZID=America/Chicago:20270516T200000
DTSTAMP:20260424T173156
CREATED:20241121T154518Z
LAST-MODIFIED:20241121T155744Z
UID:10001343-1810486800-1810497600@www.finnishbistro.com
SUMMARY:Open Mic
DESCRIPTION:Sign-ups start at 4:45 pm. \nMore information can be found on our Events & Music page. \n(4) Events & Music at The Finnish Bistro | Facebook
URL:https://www.finnishbistro.com/events/open-mic/2027-05-16/
LOCATION:MN
ATTACH;FMTTYPE=application/pdf:https://www.finnishbistro.com/wp-content/uploads/2024/11/Open-Mic.pdf
END:VEVENT
BEGIN:VEVENT
DTSTART;TZID=America/Chicago:20270517T090000
DTEND;TZID=America/Chicago:20270517T220000
DTSTAMP:20260424T173156
CREATED:20241121T171615Z
LAST-MODIFIED:20241121T171615Z
UID:10001609-1810544400-1810591200@www.finnishbistro.com
SUMMARY:Senior Social Hour
DESCRIPTION:
URL:https://www.finnishbistro.com/events/senior-social-hour/2027-05-17/
LOCATION:The Finnish Bistro\, 2264 Como Avenue\, St. Paul\, MN\, 55108\, United States
ATTACH;FMTTYPE=application/pdf:https://www.finnishbistro.com/wp-content/uploads/2024/11/Senior-Social-Hour.pdf
END:VEVENT
BEGIN:VEVENT
DTSTART;TZID=America/Chicago:20270520T143000
DTEND;TZID=America/Chicago:20270520T153000
DTSTAMP:20260424T173156
CREATED:20241121T171808Z
LAST-MODIFIED:20241121T171808Z
UID:10001873-1810823400-1810827000@www.finnishbistro.com
SUMMARY:Senior Social Hour
DESCRIPTION:
URL:https://www.finnishbistro.com/events/senior-social-hour-2/2027-05-20/
LOCATION:The Finnish Bistro\, 2264 Como Avenue\, St. Paul\, MN\, 55108\, United States
ATTACH;FMTTYPE=application/pdf:https://www.finnishbistro.com/wp-content/uploads/2024/11/Senior-Social-Hour-1.pdf
END:VEVENT
BEGIN:VEVENT
DTSTART;TZID=America/Chicago:20270523T170000
DTEND;TZID=America/Chicago:20270523T200000
DTSTAMP:20260424T173156
CREATED:20241121T154518Z
LAST-MODIFIED:20241121T155744Z
UID:10001344-1811091600-1811102400@www.finnishbistro.com
SUMMARY:Open Mic
DESCRIPTION:Sign-ups start at 4:45 pm. \nMore information can be found on our Events & Music page. \n(4) Events & Music at The Finnish Bistro | Facebook
URL:https://www.finnishbistro.com/events/open-mic/2027-05-23/
LOCATION:MN
ATTACH;FMTTYPE=application/pdf:https://www.finnishbistro.com/wp-content/uploads/2024/11/Open-Mic.pdf
END:VEVENT
BEGIN:VEVENT
DTSTART;TZID=America/Chicago:20270524T090000
DTEND;TZID=America/Chicago:20270524T220000
DTSTAMP:20260424T173156
CREATED:20241121T171615Z
LAST-MODIFIED:20241121T171615Z
UID:10001610-1811149200-1811196000@www.finnishbistro.com
SUMMARY:Senior Social Hour
DESCRIPTION:
URL:https://www.finnishbistro.com/events/senior-social-hour/2027-05-24/
LOCATION:The Finnish Bistro\, 2264 Como Avenue\, St. Paul\, MN\, 55108\, United States
ATTACH;FMTTYPE=application/pdf:https://www.finnishbistro.com/wp-content/uploads/2024/11/Senior-Social-Hour.pdf
END:VEVENT
BEGIN:VEVENT
DTSTART;TZID=America/Chicago:20270527T143000
DTEND;TZID=America/Chicago:20270527T153000
DTSTAMP:20260424T173156
CREATED:20241121T171808Z
LAST-MODIFIED:20241121T171808Z
UID:10001874-1811428200-1811431800@www.finnishbistro.com
SUMMARY:Senior Social Hour
DESCRIPTION:
URL:https://www.finnishbistro.com/events/senior-social-hour-2/2027-05-27/
LOCATION:The Finnish Bistro\, 2264 Como Avenue\, St. Paul\, MN\, 55108\, United States
ATTACH;FMTTYPE=application/pdf:https://www.finnishbistro.com/wp-content/uploads/2024/11/Senior-Social-Hour-1.pdf
END:VEVENT
BEGIN:VEVENT
DTSTART;TZID=America/Chicago:20270530T170000
DTEND;TZID=America/Chicago:20270530T200000
DTSTAMP:20260424T173156
CREATED:20241121T154518Z
LAST-MODIFIED:20241121T155744Z
UID:10001345-1811696400-1811707200@www.finnishbistro.com
SUMMARY:Open Mic
DESCRIPTION:Sign-ups start at 4:45 pm. \nMore information can be found on our Events & Music page. \n(4) Events & Music at The Finnish Bistro | Facebook
URL:https://www.finnishbistro.com/events/open-mic/2027-05-30/
LOCATION:MN
ATTACH;FMTTYPE=application/pdf:https://www.finnishbistro.com/wp-content/uploads/2024/11/Open-Mic.pdf
END:VEVENT
BEGIN:VEVENT
DTSTART;TZID=America/Chicago:20270531T090000
DTEND;TZID=America/Chicago:20270531T220000
DTSTAMP:20260424T173156
CREATED:20241121T171615Z
LAST-MODIFIED:20241121T171615Z
UID:10001611-1811754000-1811800800@www.finnishbistro.com
SUMMARY:Senior Social Hour
DESCRIPTION:
URL:https://www.finnishbistro.com/events/senior-social-hour/2027-05-31/
LOCATION:The Finnish Bistro\, 2264 Como Avenue\, St. Paul\, MN\, 55108\, United States
ATTACH;FMTTYPE=application/pdf:https://www.finnishbistro.com/wp-content/uploads/2024/11/Senior-Social-Hour.pdf
END:VEVENT
END:VCALENDAR