BEGIN:VCALENDAR
VERSION:2.0
PRODID:-//Finnish Bistro - ECPv6.15.20//NONSGML v1.0//EN
CALSCALE:GREGORIAN
METHOD:PUBLISH
X-ORIGINAL-URL:https://www.finnishbistro.com
X-WR-CALDESC:Events for Finnish Bistro
REFRESH-INTERVAL;VALUE=DURATION:PT1H
X-Robots-Tag:noindex
X-PUBLISHED-TTL:PT1H
BEGIN:VTIMEZONE
TZID:America/Chicago
BEGIN:DAYLIGHT
TZOFFSETFROM:-0600
TZOFFSETTO:-0500
TZNAME:CDT
DTSTART:20260308T080000
END:DAYLIGHT
BEGIN:STANDARD
TZOFFSETFROM:-0500
TZOFFSETTO:-0600
TZNAME:CST
DTSTART:20261101T070000
END:STANDARD
BEGIN:DAYLIGHT
TZOFFSETFROM:-0600
TZOFFSETTO:-0500
TZNAME:CDT
DTSTART:20270314T080000
END:DAYLIGHT
BEGIN:STANDARD
TZOFFSETFROM:-0500
TZOFFSETTO:-0600
TZNAME:CST
DTSTART:20271107T070000
END:STANDARD
BEGIN:DAYLIGHT
TZOFFSETFROM:-0600
TZOFFSETTO:-0500
TZNAME:CDT
DTSTART:20280312T080000
END:DAYLIGHT
BEGIN:STANDARD
TZOFFSETFROM:-0500
TZOFFSETTO:-0600
TZNAME:CST
DTSTART:20281105T070000
END:STANDARD
END:VTIMEZONE
BEGIN:VEVENT
DTSTART;TZID=America/Chicago:20270301T090000
DTEND;TZID=America/Chicago:20270301T220000
DTSTAMP:20260424T141249
CREATED:20241121T171615Z
LAST-MODIFIED:20241121T171615Z
UID:10001598-1803891600-1803938400@www.finnishbistro.com
SUMMARY:Senior Social Hour
DESCRIPTION:
URL:https://www.finnishbistro.com/events/senior-social-hour/2027-03-01/
LOCATION:The Finnish Bistro\, 2264 Como Avenue\, St. Paul\, MN\, 55108\, United States
ATTACH;FMTTYPE=application/pdf:https://www.finnishbistro.com/wp-content/uploads/2024/11/Senior-Social-Hour.pdf
END:VEVENT
BEGIN:VEVENT
DTSTART;TZID=America/Chicago:20270304T143000
DTEND;TZID=America/Chicago:20270304T153000
DTSTAMP:20260424T141249
CREATED:20241121T171808Z
LAST-MODIFIED:20241121T171808Z
UID:10001862-1804170600-1804174200@www.finnishbistro.com
SUMMARY:Senior Social Hour
DESCRIPTION:
URL:https://www.finnishbistro.com/events/senior-social-hour-2/2027-03-04/
LOCATION:The Finnish Bistro\, 2264 Como Avenue\, St. Paul\, MN\, 55108\, United States
ATTACH;FMTTYPE=application/pdf:https://www.finnishbistro.com/wp-content/uploads/2024/11/Senior-Social-Hour-1.pdf
END:VEVENT
BEGIN:VEVENT
DTSTART;TZID=America/Chicago:20270307T170000
DTEND;TZID=America/Chicago:20270307T200000
DTSTAMP:20260424T141249
CREATED:20241121T154518Z
LAST-MODIFIED:20241121T155744Z
UID:10001333-1804438800-1804449600@www.finnishbistro.com
SUMMARY:Open Mic
DESCRIPTION:Sign-ups start at 4:45 pm. \nMore information can be found on our Events & Music page. \n(4) Events & Music at The Finnish Bistro | Facebook
URL:https://www.finnishbistro.com/events/open-mic/2027-03-07/
LOCATION:MN
ATTACH;FMTTYPE=application/pdf:https://www.finnishbistro.com/wp-content/uploads/2024/11/Open-Mic.pdf
END:VEVENT
BEGIN:VEVENT
DTSTART;TZID=America/Chicago:20270308T090000
DTEND;TZID=America/Chicago:20270308T220000
DTSTAMP:20260424T141249
CREATED:20241121T171615Z
LAST-MODIFIED:20241121T171615Z
UID:10001599-1804496400-1804543200@www.finnishbistro.com
SUMMARY:Senior Social Hour
DESCRIPTION:
URL:https://www.finnishbistro.com/events/senior-social-hour/2027-03-08/
LOCATION:The Finnish Bistro\, 2264 Como Avenue\, St. Paul\, MN\, 55108\, United States
ATTACH;FMTTYPE=application/pdf:https://www.finnishbistro.com/wp-content/uploads/2024/11/Senior-Social-Hour.pdf
END:VEVENT
BEGIN:VEVENT
DTSTART;TZID=America/Chicago:20270311T143000
DTEND;TZID=America/Chicago:20270311T153000
DTSTAMP:20260424T141249
CREATED:20241121T171808Z
LAST-MODIFIED:20241121T171808Z
UID:10001863-1804775400-1804779000@www.finnishbistro.com
SUMMARY:Senior Social Hour
DESCRIPTION:
URL:https://www.finnishbistro.com/events/senior-social-hour-2/2027-03-11/
LOCATION:The Finnish Bistro\, 2264 Como Avenue\, St. Paul\, MN\, 55108\, United States
ATTACH;FMTTYPE=application/pdf:https://www.finnishbistro.com/wp-content/uploads/2024/11/Senior-Social-Hour-1.pdf
END:VEVENT
BEGIN:VEVENT
DTSTART;TZID=America/Chicago:20270314T170000
DTEND;TZID=America/Chicago:20270314T200000
DTSTAMP:20260424T141249
CREATED:20241121T154518Z
LAST-MODIFIED:20241121T155744Z
UID:10001334-1805043600-1805054400@www.finnishbistro.com
SUMMARY:Open Mic
DESCRIPTION:Sign-ups start at 4:45 pm. \nMore information can be found on our Events & Music page. \n(4) Events & Music at The Finnish Bistro | Facebook
URL:https://www.finnishbistro.com/events/open-mic/2027-03-14/
LOCATION:MN
ATTACH;FMTTYPE=application/pdf:https://www.finnishbistro.com/wp-content/uploads/2024/11/Open-Mic.pdf
END:VEVENT
BEGIN:VEVENT
DTSTART;TZID=America/Chicago:20270315T090000
DTEND;TZID=America/Chicago:20270315T220000
DTSTAMP:20260424T141249
CREATED:20241121T171615Z
LAST-MODIFIED:20241121T171615Z
UID:10001600-1805101200-1805148000@www.finnishbistro.com
SUMMARY:Senior Social Hour
DESCRIPTION:
URL:https://www.finnishbistro.com/events/senior-social-hour/2027-03-15/
LOCATION:The Finnish Bistro\, 2264 Como Avenue\, St. Paul\, MN\, 55108\, United States
ATTACH;FMTTYPE=application/pdf:https://www.finnishbistro.com/wp-content/uploads/2024/11/Senior-Social-Hour.pdf
END:VEVENT
BEGIN:VEVENT
DTSTART;TZID=America/Chicago:20270318T143000
DTEND;TZID=America/Chicago:20270318T153000
DTSTAMP:20260424T141249
CREATED:20241121T171808Z
LAST-MODIFIED:20241121T171808Z
UID:10001864-1805380200-1805383800@www.finnishbistro.com
SUMMARY:Senior Social Hour
DESCRIPTION:
URL:https://www.finnishbistro.com/events/senior-social-hour-2/2027-03-18/
LOCATION:The Finnish Bistro\, 2264 Como Avenue\, St. Paul\, MN\, 55108\, United States
ATTACH;FMTTYPE=application/pdf:https://www.finnishbistro.com/wp-content/uploads/2024/11/Senior-Social-Hour-1.pdf
END:VEVENT
BEGIN:VEVENT
DTSTART;TZID=America/Chicago:20270321T170000
DTEND;TZID=America/Chicago:20270321T200000
DTSTAMP:20260424T141249
CREATED:20241121T154518Z
LAST-MODIFIED:20241121T155744Z
UID:10001335-1805648400-1805659200@www.finnishbistro.com
SUMMARY:Open Mic
DESCRIPTION:Sign-ups start at 4:45 pm. \nMore information can be found on our Events & Music page. \n(4) Events & Music at The Finnish Bistro | Facebook
URL:https://www.finnishbistro.com/events/open-mic/2027-03-21/
LOCATION:MN
ATTACH;FMTTYPE=application/pdf:https://www.finnishbistro.com/wp-content/uploads/2024/11/Open-Mic.pdf
END:VEVENT
BEGIN:VEVENT
DTSTART;TZID=America/Chicago:20270322T090000
DTEND;TZID=America/Chicago:20270322T220000
DTSTAMP:20260424T141249
CREATED:20241121T171615Z
LAST-MODIFIED:20241121T171615Z
UID:10001601-1805706000-1805752800@www.finnishbistro.com
SUMMARY:Senior Social Hour
DESCRIPTION:
URL:https://www.finnishbistro.com/events/senior-social-hour/2027-03-22/
LOCATION:The Finnish Bistro\, 2264 Como Avenue\, St. Paul\, MN\, 55108\, United States
ATTACH;FMTTYPE=application/pdf:https://www.finnishbistro.com/wp-content/uploads/2024/11/Senior-Social-Hour.pdf
END:VEVENT
BEGIN:VEVENT
DTSTART;TZID=America/Chicago:20270325T143000
DTEND;TZID=America/Chicago:20270325T153000
DTSTAMP:20260424T141249
CREATED:20241121T171808Z
LAST-MODIFIED:20241121T171808Z
UID:10001865-1805985000-1805988600@www.finnishbistro.com
SUMMARY:Senior Social Hour
DESCRIPTION:
URL:https://www.finnishbistro.com/events/senior-social-hour-2/2027-03-25/
LOCATION:The Finnish Bistro\, 2264 Como Avenue\, St. Paul\, MN\, 55108\, United States
ATTACH;FMTTYPE=application/pdf:https://www.finnishbistro.com/wp-content/uploads/2024/11/Senior-Social-Hour-1.pdf
END:VEVENT
BEGIN:VEVENT
DTSTART;TZID=America/Chicago:20270328T170000
DTEND;TZID=America/Chicago:20270328T200000
DTSTAMP:20260424T141249
CREATED:20241121T154518Z
LAST-MODIFIED:20241121T155744Z
UID:10001336-1806253200-1806264000@www.finnishbistro.com
SUMMARY:Open Mic
DESCRIPTION:Sign-ups start at 4:45 pm. \nMore information can be found on our Events & Music page. \n(4) Events & Music at The Finnish Bistro | Facebook
URL:https://www.finnishbistro.com/events/open-mic/2027-03-28/
LOCATION:MN
ATTACH;FMTTYPE=application/pdf:https://www.finnishbistro.com/wp-content/uploads/2024/11/Open-Mic.pdf
END:VEVENT
BEGIN:VEVENT
DTSTART;TZID=America/Chicago:20270329T090000
DTEND;TZID=America/Chicago:20270329T220000
DTSTAMP:20260424T141249
CREATED:20241121T171615Z
LAST-MODIFIED:20241121T171615Z
UID:10001602-1806310800-1806357600@www.finnishbistro.com
SUMMARY:Senior Social Hour
DESCRIPTION:
URL:https://www.finnishbistro.com/events/senior-social-hour/2027-03-29/
LOCATION:The Finnish Bistro\, 2264 Como Avenue\, St. Paul\, MN\, 55108\, United States
ATTACH;FMTTYPE=application/pdf:https://www.finnishbistro.com/wp-content/uploads/2024/11/Senior-Social-Hour.pdf
END:VEVENT
END:VCALENDAR