BEGIN:VCALENDAR
VERSION:2.0
PRODID:-//Finnish Bistro - ECPv6.15.20//NONSGML v1.0//EN
CALSCALE:GREGORIAN
METHOD:PUBLISH
X-WR-CALNAME:Finnish Bistro
X-ORIGINAL-URL:https://www.finnishbistro.com
X-WR-CALDESC:Events for Finnish Bistro
REFRESH-INTERVAL;VALUE=DURATION:PT1H
X-Robots-Tag:noindex
X-PUBLISHED-TTL:PT1H
BEGIN:VTIMEZONE
TZID:America/Chicago
BEGIN:DAYLIGHT
TZOFFSETFROM:-0600
TZOFFSETTO:-0500
TZNAME:CDT
DTSTART:20260308T080000
END:DAYLIGHT
BEGIN:STANDARD
TZOFFSETFROM:-0500
TZOFFSETTO:-0600
TZNAME:CST
DTSTART:20261101T070000
END:STANDARD
BEGIN:DAYLIGHT
TZOFFSETFROM:-0600
TZOFFSETTO:-0500
TZNAME:CDT
DTSTART:20270314T080000
END:DAYLIGHT
BEGIN:STANDARD
TZOFFSETFROM:-0500
TZOFFSETTO:-0600
TZNAME:CST
DTSTART:20271107T070000
END:STANDARD
BEGIN:DAYLIGHT
TZOFFSETFROM:-0600
TZOFFSETTO:-0500
TZNAME:CDT
DTSTART:20280312T080000
END:DAYLIGHT
BEGIN:STANDARD
TZOFFSETFROM:-0500
TZOFFSETTO:-0600
TZNAME:CST
DTSTART:20281105T070000
END:STANDARD
END:VTIMEZONE
BEGIN:VEVENT
DTSTART;TZID=America/Chicago:20270103T170000
DTEND;TZID=America/Chicago:20270103T200000
DTSTAMP:20260424T110452
CREATED:20241121T154518Z
LAST-MODIFIED:20241121T155744Z
UID:10001324-1798995600-1799006400@www.finnishbistro.com
SUMMARY:Open Mic
DESCRIPTION:Sign-ups start at 4:45 pm. \nMore information can be found on our Events & Music page. \n(4) Events & Music at The Finnish Bistro | Facebook
URL:https://www.finnishbistro.com/events/open-mic/2027-01-03/
LOCATION:MN
ATTACH;FMTTYPE=application/pdf:https://www.finnishbistro.com/wp-content/uploads/2024/11/Open-Mic.pdf
END:VEVENT
BEGIN:VEVENT
DTSTART;TZID=America/Chicago:20270104T090000
DTEND;TZID=America/Chicago:20270104T220000
DTSTAMP:20260424T110452
CREATED:20241121T171615Z
LAST-MODIFIED:20241121T171615Z
UID:10001590-1799053200-1799100000@www.finnishbistro.com
SUMMARY:Senior Social Hour
DESCRIPTION:
URL:https://www.finnishbistro.com/events/senior-social-hour/2027-01-04/
LOCATION:The Finnish Bistro\, 2264 Como Avenue\, St. Paul\, MN\, 55108\, United States
ATTACH;FMTTYPE=application/pdf:https://www.finnishbistro.com/wp-content/uploads/2024/11/Senior-Social-Hour.pdf
END:VEVENT
BEGIN:VEVENT
DTSTART;TZID=America/Chicago:20270107T143000
DTEND;TZID=America/Chicago:20270107T153000
DTSTAMP:20260424T110452
CREATED:20241121T171808Z
LAST-MODIFIED:20241121T171808Z
UID:10001854-1799332200-1799335800@www.finnishbistro.com
SUMMARY:Senior Social Hour
DESCRIPTION:
URL:https://www.finnishbistro.com/events/senior-social-hour-2/2027-01-07/
LOCATION:The Finnish Bistro\, 2264 Como Avenue\, St. Paul\, MN\, 55108\, United States
ATTACH;FMTTYPE=application/pdf:https://www.finnishbistro.com/wp-content/uploads/2024/11/Senior-Social-Hour-1.pdf
END:VEVENT
BEGIN:VEVENT
DTSTART;TZID=America/Chicago:20270110T170000
DTEND;TZID=America/Chicago:20270110T200000
DTSTAMP:20260424T110452
CREATED:20241121T154518Z
LAST-MODIFIED:20241121T155744Z
UID:10001325-1799600400-1799611200@www.finnishbistro.com
SUMMARY:Open Mic
DESCRIPTION:Sign-ups start at 4:45 pm. \nMore information can be found on our Events & Music page. \n(4) Events & Music at The Finnish Bistro | Facebook
URL:https://www.finnishbistro.com/events/open-mic/2027-01-10/
LOCATION:MN
ATTACH;FMTTYPE=application/pdf:https://www.finnishbistro.com/wp-content/uploads/2024/11/Open-Mic.pdf
END:VEVENT
BEGIN:VEVENT
DTSTART;TZID=America/Chicago:20270111T090000
DTEND;TZID=America/Chicago:20270111T220000
DTSTAMP:20260424T110452
CREATED:20241121T171615Z
LAST-MODIFIED:20241121T171615Z
UID:10001591-1799658000-1799704800@www.finnishbistro.com
SUMMARY:Senior Social Hour
DESCRIPTION:
URL:https://www.finnishbistro.com/events/senior-social-hour/2027-01-11/
LOCATION:The Finnish Bistro\, 2264 Como Avenue\, St. Paul\, MN\, 55108\, United States
ATTACH;FMTTYPE=application/pdf:https://www.finnishbistro.com/wp-content/uploads/2024/11/Senior-Social-Hour.pdf
END:VEVENT
BEGIN:VEVENT
DTSTART;TZID=America/Chicago:20270114T143000
DTEND;TZID=America/Chicago:20270114T153000
DTSTAMP:20260424T110452
CREATED:20241121T171808Z
LAST-MODIFIED:20241121T171808Z
UID:10001855-1799937000-1799940600@www.finnishbistro.com
SUMMARY:Senior Social Hour
DESCRIPTION:
URL:https://www.finnishbistro.com/events/senior-social-hour-2/2027-01-14/
LOCATION:The Finnish Bistro\, 2264 Como Avenue\, St. Paul\, MN\, 55108\, United States
ATTACH;FMTTYPE=application/pdf:https://www.finnishbistro.com/wp-content/uploads/2024/11/Senior-Social-Hour-1.pdf
END:VEVENT
BEGIN:VEVENT
DTSTART;TZID=America/Chicago:20270117T170000
DTEND;TZID=America/Chicago:20270117T200000
DTSTAMP:20260424T110452
CREATED:20241121T154518Z
LAST-MODIFIED:20241121T155744Z
UID:10001326-1800205200-1800216000@www.finnishbistro.com
SUMMARY:Open Mic
DESCRIPTION:Sign-ups start at 4:45 pm. \nMore information can be found on our Events & Music page. \n(4) Events & Music at The Finnish Bistro | Facebook
URL:https://www.finnishbistro.com/events/open-mic/2027-01-17/
LOCATION:MN
ATTACH;FMTTYPE=application/pdf:https://www.finnishbistro.com/wp-content/uploads/2024/11/Open-Mic.pdf
END:VEVENT
BEGIN:VEVENT
DTSTART;TZID=America/Chicago:20270118T090000
DTEND;TZID=America/Chicago:20270118T220000
DTSTAMP:20260424T110452
CREATED:20241121T171615Z
LAST-MODIFIED:20241121T171615Z
UID:10001592-1800262800-1800309600@www.finnishbistro.com
SUMMARY:Senior Social Hour
DESCRIPTION:
URL:https://www.finnishbistro.com/events/senior-social-hour/2027-01-18/
LOCATION:The Finnish Bistro\, 2264 Como Avenue\, St. Paul\, MN\, 55108\, United States
ATTACH;FMTTYPE=application/pdf:https://www.finnishbistro.com/wp-content/uploads/2024/11/Senior-Social-Hour.pdf
END:VEVENT
BEGIN:VEVENT
DTSTART;TZID=America/Chicago:20270121T143000
DTEND;TZID=America/Chicago:20270121T153000
DTSTAMP:20260424T110452
CREATED:20241121T171808Z
LAST-MODIFIED:20241121T171808Z
UID:10001856-1800541800-1800545400@www.finnishbistro.com
SUMMARY:Senior Social Hour
DESCRIPTION:
URL:https://www.finnishbistro.com/events/senior-social-hour-2/2027-01-21/
LOCATION:The Finnish Bistro\, 2264 Como Avenue\, St. Paul\, MN\, 55108\, United States
ATTACH;FMTTYPE=application/pdf:https://www.finnishbistro.com/wp-content/uploads/2024/11/Senior-Social-Hour-1.pdf
END:VEVENT
BEGIN:VEVENT
DTSTART;TZID=America/Chicago:20270124T170000
DTEND;TZID=America/Chicago:20270124T200000
DTSTAMP:20260424T110452
CREATED:20241121T154518Z
LAST-MODIFIED:20241121T155744Z
UID:10001327-1800810000-1800820800@www.finnishbistro.com
SUMMARY:Open Mic
DESCRIPTION:Sign-ups start at 4:45 pm. \nMore information can be found on our Events & Music page. \n(4) Events & Music at The Finnish Bistro | Facebook
URL:https://www.finnishbistro.com/events/open-mic/2027-01-24/
LOCATION:MN
ATTACH;FMTTYPE=application/pdf:https://www.finnishbistro.com/wp-content/uploads/2024/11/Open-Mic.pdf
END:VEVENT
BEGIN:VEVENT
DTSTART;TZID=America/Chicago:20270125T090000
DTEND;TZID=America/Chicago:20270125T220000
DTSTAMP:20260424T110452
CREATED:20241121T171615Z
LAST-MODIFIED:20241121T171615Z
UID:10001593-1800867600-1800914400@www.finnishbistro.com
SUMMARY:Senior Social Hour
DESCRIPTION:
URL:https://www.finnishbistro.com/events/senior-social-hour/2027-01-25/
LOCATION:The Finnish Bistro\, 2264 Como Avenue\, St. Paul\, MN\, 55108\, United States
ATTACH;FMTTYPE=application/pdf:https://www.finnishbistro.com/wp-content/uploads/2024/11/Senior-Social-Hour.pdf
END:VEVENT
BEGIN:VEVENT
DTSTART;TZID=America/Chicago:20270128T143000
DTEND;TZID=America/Chicago:20270128T153000
DTSTAMP:20260424T110452
CREATED:20241121T171808Z
LAST-MODIFIED:20241121T171808Z
UID:10001857-1801146600-1801150200@www.finnishbistro.com
SUMMARY:Senior Social Hour
DESCRIPTION:
URL:https://www.finnishbistro.com/events/senior-social-hour-2/2027-01-28/
LOCATION:The Finnish Bistro\, 2264 Como Avenue\, St. Paul\, MN\, 55108\, United States
ATTACH;FMTTYPE=application/pdf:https://www.finnishbistro.com/wp-content/uploads/2024/11/Senior-Social-Hour-1.pdf
END:VEVENT
BEGIN:VEVENT
DTSTART;TZID=America/Chicago:20270131T170000
DTEND;TZID=America/Chicago:20270131T200000
DTSTAMP:20260424T110452
CREATED:20241121T154518Z
LAST-MODIFIED:20241121T155744Z
UID:10001328-1801414800-1801425600@www.finnishbistro.com
SUMMARY:Open Mic
DESCRIPTION:Sign-ups start at 4:45 pm. \nMore information can be found on our Events & Music page. \n(4) Events & Music at The Finnish Bistro | Facebook
URL:https://www.finnishbistro.com/events/open-mic/2027-01-31/
LOCATION:MN
ATTACH;FMTTYPE=application/pdf:https://www.finnishbistro.com/wp-content/uploads/2024/11/Open-Mic.pdf
END:VEVENT
END:VCALENDAR