BEGIN:VCALENDAR
VERSION:2.0
PRODID:-//Finnish Bistro - ECPv6.15.20//NONSGML v1.0//EN
CALSCALE:GREGORIAN
METHOD:PUBLISH
X-WR-CALNAME:Finnish Bistro
X-ORIGINAL-URL:https://www.finnishbistro.com
X-WR-CALDESC:Events for Finnish Bistro
REFRESH-INTERVAL;VALUE=DURATION:PT1H
X-Robots-Tag:noindex
X-PUBLISHED-TTL:PT1H
BEGIN:VTIMEZONE
TZID:America/Chicago
BEGIN:DAYLIGHT
TZOFFSETFROM:-0600
TZOFFSETTO:-0500
TZNAME:CDT
DTSTART:20250309T080000
END:DAYLIGHT
BEGIN:STANDARD
TZOFFSETFROM:-0500
TZOFFSETTO:-0600
TZNAME:CST
DTSTART:20251102T070000
END:STANDARD
BEGIN:DAYLIGHT
TZOFFSETFROM:-0600
TZOFFSETTO:-0500
TZNAME:CDT
DTSTART:20260308T080000
END:DAYLIGHT
BEGIN:STANDARD
TZOFFSETFROM:-0500
TZOFFSETTO:-0600
TZNAME:CST
DTSTART:20261101T070000
END:STANDARD
BEGIN:DAYLIGHT
TZOFFSETFROM:-0600
TZOFFSETTO:-0500
TZNAME:CDT
DTSTART:20270314T080000
END:DAYLIGHT
BEGIN:STANDARD
TZOFFSETFROM:-0500
TZOFFSETTO:-0600
TZNAME:CST
DTSTART:20271107T070000
END:STANDARD
END:VTIMEZONE
BEGIN:VEVENT
DTSTART;TZID=America/Chicago:20260902T183000
DTEND;TZID=America/Chicago:20260902T200000
DTSTAMP:20260424T043219
CREATED:20260316T150552Z
LAST-MODIFIED:20260316T150552Z
UID:10002956-1788373800-1788379200@www.finnishbistro.com
SUMMARY:Comes a Time
DESCRIPTION:
URL:https://www.finnishbistro.com/events/comes-a-time-4/2026-09-02/
LOCATION:The Finnish Bistro\, 2264 Como Avenue\, St. Paul\, MN\, 55108\, United States
ATTACH;FMTTYPE=application/pdf:https://www.finnishbistro.com/wp-content/uploads/2026/03/Comes-a-Time.pdf
END:VEVENT
BEGIN:VEVENT
DTSTART;TZID=America/Chicago:20260903T143000
DTEND;TZID=America/Chicago:20260903T153000
DTSTAMP:20260424T043219
CREATED:20241121T171808Z
LAST-MODIFIED:20241121T171808Z
UID:10001836-1788445800-1788449400@www.finnishbistro.com
SUMMARY:Senior Social Hour
DESCRIPTION:
URL:https://www.finnishbistro.com/events/senior-social-hour-2/2026-09-03/
LOCATION:The Finnish Bistro\, 2264 Como Avenue\, St. Paul\, MN\, 55108\, United States
ATTACH;FMTTYPE=application/pdf:https://www.finnishbistro.com/wp-content/uploads/2024/11/Senior-Social-Hour-1.pdf
END:VEVENT
BEGIN:VEVENT
DTSTART;TZID=America/Chicago:20260904T183000
DTEND;TZID=America/Chicago:20260904T200000
DTSTAMP:20260424T043219
CREATED:20251110T162952Z
LAST-MODIFIED:20251110T163059Z
UID:10002793-1788546600-1788552000@www.finnishbistro.com
SUMMARY:Clover Club
DESCRIPTION:
URL:https://www.finnishbistro.com/events/clover-club/2026-09-04/
LOCATION:The Finnish Bistro\, 2264 Como Avenue\, St. Paul\, MN\, 55108\, United States
ATTACH;FMTTYPE=application/pdf:https://www.finnishbistro.com/wp-content/uploads/2025/11/Clover-Club.pdf
END:VEVENT
BEGIN:VEVENT
DTSTART;TZID=America/Chicago:20260905T110000
DTEND;TZID=America/Chicago:20260905T130000
DTSTAMP:20260424T043219
CREATED:20260209T153947Z
LAST-MODIFIED:20260209T153947Z
UID:10002904-1788606000-1788613200@www.finnishbistro.com
SUMMARY:Ten Penny Tunes
DESCRIPTION:
URL:https://www.finnishbistro.com/events/ten-penny-tunes-2/
LOCATION:The Finnish Bistro\, 2264 Como Avenue\, St. Paul\, MN\, 55108\, United States
ATTACH;FMTTYPE=application/pdf:https://www.finnishbistro.com/wp-content/uploads/2026/02/Ten-Penny-Tunes.pdf
END:VEVENT
BEGIN:VEVENT
DTSTART;TZID=America/Chicago:20260906T170000
DTEND;TZID=America/Chicago:20260906T200000
DTSTAMP:20260424T043219
CREATED:20241121T154518Z
LAST-MODIFIED:20241121T155744Z
UID:10001307-1788714000-1788724800@www.finnishbistro.com
SUMMARY:Open Mic
DESCRIPTION:Sign-ups start at 4:45 pm. \nMore information can be found on our Events & Music page. \n(4) Events & Music at The Finnish Bistro | Facebook
URL:https://www.finnishbistro.com/events/open-mic/2026-09-06/
LOCATION:MN
ATTACH;FMTTYPE=application/pdf:https://www.finnishbistro.com/wp-content/uploads/2024/11/Open-Mic.pdf
END:VEVENT
BEGIN:VEVENT
DTSTART;TZID=America/Chicago:20260907T090000
DTEND;TZID=America/Chicago:20260907T220000
DTSTAMP:20260424T043219
CREATED:20241121T171615Z
LAST-MODIFIED:20241121T171615Z
UID:10001573-1788771600-1788818400@www.finnishbistro.com
SUMMARY:Senior Social Hour
DESCRIPTION:
URL:https://www.finnishbistro.com/events/senior-social-hour/2026-09-07/
LOCATION:The Finnish Bistro\, 2264 Como Avenue\, St. Paul\, MN\, 55108\, United States
ATTACH;FMTTYPE=application/pdf:https://www.finnishbistro.com/wp-content/uploads/2024/11/Senior-Social-Hour.pdf
END:VEVENT
BEGIN:VEVENT
DTSTART;TZID=America/Chicago:20260909T183000
DTEND;TZID=America/Chicago:20260909T200000
DTSTAMP:20260424T043219
CREATED:20260323T160457Z
LAST-MODIFIED:20260323T160457Z
UID:10002965-1788978600-1788984000@www.finnishbistro.com
SUMMARY:Joel Shapira
DESCRIPTION:
URL:https://www.finnishbistro.com/events/joel-shapira/
LOCATION:The Finnish Bistro\, 2264 Como Avenue\, St. Paul\, MN\, 55108\, United States
ATTACH;FMTTYPE=application/pdf:https://www.finnishbistro.com/wp-content/uploads/2026/03/Joel-Shapira.pdf
END:VEVENT
BEGIN:VEVENT
DTSTART;TZID=America/Chicago:20260910T143000
DTEND;TZID=America/Chicago:20260910T153000
DTSTAMP:20260424T043219
CREATED:20241121T171808Z
LAST-MODIFIED:20241121T171808Z
UID:10001837-1789050600-1789054200@www.finnishbistro.com
SUMMARY:Senior Social Hour
DESCRIPTION:
URL:https://www.finnishbistro.com/events/senior-social-hour-2/2026-09-10/
LOCATION:The Finnish Bistro\, 2264 Como Avenue\, St. Paul\, MN\, 55108\, United States
ATTACH;FMTTYPE=application/pdf:https://www.finnishbistro.com/wp-content/uploads/2024/11/Senior-Social-Hour-1.pdf
END:VEVENT
BEGIN:VEVENT
DTSTART;TZID=America/Chicago:20260912T100000
DTEND;TZID=America/Chicago:20260912T120000
DTSTAMP:20260424T043219
CREATED:20260313T154103Z
LAST-MODIFIED:20260313T154103Z
UID:10002950-1789207200-1789214400@www.finnishbistro.com
SUMMARY:Mega Yacht
DESCRIPTION:
URL:https://www.finnishbistro.com/events/mega-yacht-3/2026-09-12/
LOCATION:The Finnish Bistro\, 2264 Como Avenue\, St. Paul\, MN\, 55108\, United States
ATTACH;FMTTYPE=application/pdf:https://www.finnishbistro.com/wp-content/uploads/2026/03/Mega-Yacht.pdf
END:VEVENT
BEGIN:VEVENT
DTSTART;TZID=America/Chicago:20260912T183000
DTEND;TZID=America/Chicago:20260912T200000
DTSTAMP:20260424T043219
CREATED:20251215T160107Z
LAST-MODIFIED:20251217T154722Z
UID:10002844-1789237800-1789243200@www.finnishbistro.com
SUMMARY:The Flying T
DESCRIPTION:
URL:https://www.finnishbistro.com/events/the-flying-t/2026-09-12/
LOCATION:The Finnish Bistro\, 2264 Como Avenue\, St. Paul\, MN\, 55108\, United States
ATTACH;FMTTYPE=application/pdf:https://www.finnishbistro.com/wp-content/uploads/2025/12/The-Flying-T.pdf
END:VEVENT
BEGIN:VEVENT
DTSTART;TZID=America/Chicago:20260913T170000
DTEND;TZID=America/Chicago:20260913T200000
DTSTAMP:20260424T043219
CREATED:20241121T154518Z
LAST-MODIFIED:20241121T155744Z
UID:10001308-1789318800-1789329600@www.finnishbistro.com
SUMMARY:Open Mic
DESCRIPTION:Sign-ups start at 4:45 pm. \nMore information can be found on our Events & Music page. \n(4) Events & Music at The Finnish Bistro | Facebook
URL:https://www.finnishbistro.com/events/open-mic/2026-09-13/
LOCATION:MN
ATTACH;FMTTYPE=application/pdf:https://www.finnishbistro.com/wp-content/uploads/2024/11/Open-Mic.pdf
END:VEVENT
BEGIN:VEVENT
DTSTART;TZID=America/Chicago:20260914T090000
DTEND;TZID=America/Chicago:20260914T220000
DTSTAMP:20260424T043219
CREATED:20241121T171615Z
LAST-MODIFIED:20241121T171615Z
UID:10001574-1789376400-1789423200@www.finnishbistro.com
SUMMARY:Senior Social Hour
DESCRIPTION:
URL:https://www.finnishbistro.com/events/senior-social-hour/2026-09-14/
LOCATION:The Finnish Bistro\, 2264 Como Avenue\, St. Paul\, MN\, 55108\, United States
ATTACH;FMTTYPE=application/pdf:https://www.finnishbistro.com/wp-content/uploads/2024/11/Senior-Social-Hour.pdf
END:VEVENT
BEGIN:VEVENT
DTSTART;TZID=America/Chicago:20260916T183000
DTEND;TZID=America/Chicago:20260916T200000
DTSTAMP:20260424T043219
CREATED:20260416T180109Z
LAST-MODIFIED:20260416T180109Z
UID:10003009-1789583400-1789588800@www.finnishbistro.com
SUMMARY:3Beards Unplugged
DESCRIPTION:
URL:https://www.finnishbistro.com/events/3beards-unplugged/
LOCATION:The Finnish Bistro\, 2264 Como Avenue\, St. Paul\, MN\, 55108\, United States
ATTACH;FMTTYPE=application/pdf:https://www.finnishbistro.com/wp-content/uploads/2026/04/3Beards-Unplugged.pdf
END:VEVENT
BEGIN:VEVENT
DTSTART;TZID=America/Chicago:20260917T143000
DTEND;TZID=America/Chicago:20260917T153000
DTSTAMP:20260424T043219
CREATED:20241121T171808Z
LAST-MODIFIED:20241121T171808Z
UID:10001838-1789655400-1789659000@www.finnishbistro.com
SUMMARY:Senior Social Hour
DESCRIPTION:
URL:https://www.finnishbistro.com/events/senior-social-hour-2/2026-09-17/
LOCATION:The Finnish Bistro\, 2264 Como Avenue\, St. Paul\, MN\, 55108\, United States
ATTACH;FMTTYPE=application/pdf:https://www.finnishbistro.com/wp-content/uploads/2024/11/Senior-Social-Hour-1.pdf
END:VEVENT
BEGIN:VEVENT
DTSTART;TZID=America/Chicago:20260919T103000
DTEND;TZID=America/Chicago:20260919T123000
DTSTAMP:20260424T043219
CREATED:20251202T001154Z
LAST-MODIFIED:20251202T001154Z
UID:10002820-1789813800-1789821000@www.finnishbistro.com
SUMMARY:Why Worry?
DESCRIPTION:
URL:https://www.finnishbistro.com/events/why-worry/2026-09-19/
LOCATION:The Finnish Bistro\, 2264 Como Avenue\, St. Paul\, MN\, 55108\, United States
ATTACH;FMTTYPE=application/pdf:https://www.finnishbistro.com/wp-content/uploads/2025/12/Why-Worry_-Info-2022-1.pdf
END:VEVENT
BEGIN:VEVENT
DTSTART;TZID=America/Chicago:20260920T170000
DTEND;TZID=America/Chicago:20260920T200000
DTSTAMP:20260424T043219
CREATED:20241121T154518Z
LAST-MODIFIED:20241121T155744Z
UID:10001309-1789923600-1789934400@www.finnishbistro.com
SUMMARY:Open Mic
DESCRIPTION:Sign-ups start at 4:45 pm. \nMore information can be found on our Events & Music page. \n(4) Events & Music at The Finnish Bistro | Facebook
URL:https://www.finnishbistro.com/events/open-mic/2026-09-20/
LOCATION:MN
ATTACH;FMTTYPE=application/pdf:https://www.finnishbistro.com/wp-content/uploads/2024/11/Open-Mic.pdf
END:VEVENT
BEGIN:VEVENT
DTSTART;TZID=America/Chicago:20260921T090000
DTEND;TZID=America/Chicago:20260921T220000
DTSTAMP:20260424T043219
CREATED:20241121T171615Z
LAST-MODIFIED:20241121T171615Z
UID:10001575-1789981200-1790028000@www.finnishbistro.com
SUMMARY:Senior Social Hour
DESCRIPTION:
URL:https://www.finnishbistro.com/events/senior-social-hour/2026-09-21/
LOCATION:The Finnish Bistro\, 2264 Como Avenue\, St. Paul\, MN\, 55108\, United States
ATTACH;FMTTYPE=application/pdf:https://www.finnishbistro.com/wp-content/uploads/2024/11/Senior-Social-Hour.pdf
END:VEVENT
BEGIN:VEVENT
DTSTART;TZID=America/Chicago:20260924T143000
DTEND;TZID=America/Chicago:20260924T153000
DTSTAMP:20260424T043219
CREATED:20241121T171808Z
LAST-MODIFIED:20241121T171808Z
UID:10001839-1790260200-1790263800@www.finnishbistro.com
SUMMARY:Senior Social Hour
DESCRIPTION:
URL:https://www.finnishbistro.com/events/senior-social-hour-2/2026-09-24/
LOCATION:The Finnish Bistro\, 2264 Como Avenue\, St. Paul\, MN\, 55108\, United States
ATTACH;FMTTYPE=application/pdf:https://www.finnishbistro.com/wp-content/uploads/2024/11/Senior-Social-Hour-1.pdf
END:VEVENT
BEGIN:VEVENT
DTSTART;TZID=America/Chicago:20260926T103000
DTEND;TZID=America/Chicago:20260926T123000
DTSTAMP:20260424T043219
CREATED:20260223T161143Z
LAST-MODIFIED:20260409T191141Z
UID:10002925-1790418600-1790425800@www.finnishbistro.com
SUMMARY:Bryan Haggerty
DESCRIPTION:
URL:https://www.finnishbistro.com/events/bryan-haggerty/2026-09-26/
LOCATION:The Finnish Bistro\, 2264 Como Avenue\, St. Paul\, MN\, 55108\, United States
ATTACH;FMTTYPE=application/pdf:https://www.finnishbistro.com/wp-content/uploads/2026/02/Bryan-Haggerty-1.pdf
END:VEVENT
BEGIN:VEVENT
DTSTART;TZID=America/Chicago:20260927T170000
DTEND;TZID=America/Chicago:20260927T200000
DTSTAMP:20260424T043219
CREATED:20241121T154518Z
LAST-MODIFIED:20241121T155744Z
UID:10001310-1790528400-1790539200@www.finnishbistro.com
SUMMARY:Open Mic
DESCRIPTION:Sign-ups start at 4:45 pm. \nMore information can be found on our Events & Music page. \n(4) Events & Music at The Finnish Bistro | Facebook
URL:https://www.finnishbistro.com/events/open-mic/2026-09-27/
LOCATION:MN
ATTACH;FMTTYPE=application/pdf:https://www.finnishbistro.com/wp-content/uploads/2024/11/Open-Mic.pdf
END:VEVENT
BEGIN:VEVENT
DTSTART;TZID=America/Chicago:20260928T090000
DTEND;TZID=America/Chicago:20260928T220000
DTSTAMP:20260424T043219
CREATED:20241121T171615Z
LAST-MODIFIED:20241121T171615Z
UID:10001576-1790586000-1790632800@www.finnishbistro.com
SUMMARY:Senior Social Hour
DESCRIPTION:
URL:https://www.finnishbistro.com/events/senior-social-hour/2026-09-28/
LOCATION:The Finnish Bistro\, 2264 Como Avenue\, St. Paul\, MN\, 55108\, United States
ATTACH;FMTTYPE=application/pdf:https://www.finnishbistro.com/wp-content/uploads/2024/11/Senior-Social-Hour.pdf
END:VEVENT
END:VCALENDAR