BEGIN:VCALENDAR
VERSION:2.0
PRODID:-//Finnish Bistro - ECPv6.15.20//NONSGML v1.0//EN
CALSCALE:GREGORIAN
METHOD:PUBLISH
X-WR-CALNAME:Finnish Bistro
X-ORIGINAL-URL:https://www.finnishbistro.com
X-WR-CALDESC:Events for Finnish Bistro
REFRESH-INTERVAL;VALUE=DURATION:PT1H
X-Robots-Tag:noindex
X-PUBLISHED-TTL:PT1H
BEGIN:VTIMEZONE
TZID:America/Chicago
BEGIN:DAYLIGHT
TZOFFSETFROM:-0600
TZOFFSETTO:-0500
TZNAME:CDT
DTSTART:20250309T080000
END:DAYLIGHT
BEGIN:STANDARD
TZOFFSETFROM:-0500
TZOFFSETTO:-0600
TZNAME:CST
DTSTART:20251102T070000
END:STANDARD
BEGIN:DAYLIGHT
TZOFFSETFROM:-0600
TZOFFSETTO:-0500
TZNAME:CDT
DTSTART:20260308T080000
END:DAYLIGHT
BEGIN:STANDARD
TZOFFSETFROM:-0500
TZOFFSETTO:-0600
TZNAME:CST
DTSTART:20261101T070000
END:STANDARD
BEGIN:DAYLIGHT
TZOFFSETFROM:-0600
TZOFFSETTO:-0500
TZNAME:CDT
DTSTART:20270314T080000
END:DAYLIGHT
BEGIN:STANDARD
TZOFFSETFROM:-0500
TZOFFSETTO:-0600
TZNAME:CST
DTSTART:20271107T070000
END:STANDARD
END:VTIMEZONE
BEGIN:VEVENT
DTSTART;TZID=America/Chicago:20260701T183000
DTEND;TZID=America/Chicago:20260701T200000
DTSTAMP:20260424T010915
CREATED:20260131T164133Z
LAST-MODIFIED:20260131T164133Z
UID:10002890-1782930600-1782936000@www.finnishbistro.com
SUMMARY:Mary Cutrufello
DESCRIPTION:
URL:https://www.finnishbistro.com/events/mary-cutrufello/2026-07-01/
LOCATION:The Finnish Bistro\, 2264 Como Avenue\, St. Paul\, MN\, 55108\, United States
ATTACH;FMTTYPE=application/pdf:https://www.finnishbistro.com/wp-content/uploads/2026/01/Mary-Cutrufello.pdf
END:VEVENT
BEGIN:VEVENT
DTSTART;TZID=America/Chicago:20260702T143000
DTEND;TZID=America/Chicago:20260702T153000
DTSTAMP:20260424T010915
CREATED:20241121T171808Z
LAST-MODIFIED:20241121T171808Z
UID:10001827-1783002600-1783006200@www.finnishbistro.com
SUMMARY:Senior Social Hour
DESCRIPTION:
URL:https://www.finnishbistro.com/events/senior-social-hour-2/2026-07-02/
LOCATION:The Finnish Bistro\, 2264 Como Avenue\, St. Paul\, MN\, 55108\, United States
ATTACH;FMTTYPE=application/pdf:https://www.finnishbistro.com/wp-content/uploads/2024/11/Senior-Social-Hour-1.pdf
END:VEVENT
BEGIN:VEVENT
DTSTART;TZID=America/Chicago:20260705T170000
DTEND;TZID=America/Chicago:20260705T200000
DTSTAMP:20260424T010915
CREATED:20241121T154518Z
LAST-MODIFIED:20241121T155744Z
UID:10001298-1783270800-1783281600@www.finnishbistro.com
SUMMARY:Open Mic
DESCRIPTION:Sign-ups start at 4:45 pm. \nMore information can be found on our Events & Music page. \n(4) Events & Music at The Finnish Bistro | Facebook
URL:https://www.finnishbistro.com/events/open-mic/2026-07-05/
LOCATION:MN
ATTACH;FMTTYPE=application/pdf:https://www.finnishbistro.com/wp-content/uploads/2024/11/Open-Mic.pdf
END:VEVENT
BEGIN:VEVENT
DTSTART;TZID=America/Chicago:20260706T090000
DTEND;TZID=America/Chicago:20260706T220000
DTSTAMP:20260424T010915
CREATED:20241121T171615Z
LAST-MODIFIED:20241121T171615Z
UID:10001564-1783328400-1783375200@www.finnishbistro.com
SUMMARY:Senior Social Hour
DESCRIPTION:
URL:https://www.finnishbistro.com/events/senior-social-hour/2026-07-06/
LOCATION:The Finnish Bistro\, 2264 Como Avenue\, St. Paul\, MN\, 55108\, United States
ATTACH;FMTTYPE=application/pdf:https://www.finnishbistro.com/wp-content/uploads/2024/11/Senior-Social-Hour.pdf
END:VEVENT
BEGIN:VEVENT
DTSTART;TZID=America/Chicago:20260708T183000
DTEND;TZID=America/Chicago:20260708T200000
DTSTAMP:20260424T010915
CREATED:20260415T145520Z
LAST-MODIFIED:20260415T145520Z
UID:10003006-1783535400-1783540800@www.finnishbistro.com
SUMMARY:Nancy Olson
DESCRIPTION:
URL:https://www.finnishbistro.com/events/nancy-olson-2/
LOCATION:The Finnish Bistro\, 2264 Como Avenue\, St. Paul\, MN\, 55108\, United States
ATTACH;FMTTYPE=application/pdf:https://www.finnishbistro.com/wp-content/uploads/2026/04/Nancy-Olson.pdf
END:VEVENT
BEGIN:VEVENT
DTSTART;TZID=America/Chicago:20260709T143000
DTEND;TZID=America/Chicago:20260709T153000
DTSTAMP:20260424T010915
CREATED:20241121T171808Z
LAST-MODIFIED:20241121T171808Z
UID:10001828-1783607400-1783611000@www.finnishbistro.com
SUMMARY:Senior Social Hour
DESCRIPTION:
URL:https://www.finnishbistro.com/events/senior-social-hour-2/2026-07-09/
LOCATION:The Finnish Bistro\, 2264 Como Avenue\, St. Paul\, MN\, 55108\, United States
ATTACH;FMTTYPE=application/pdf:https://www.finnishbistro.com/wp-content/uploads/2024/11/Senior-Social-Hour-1.pdf
END:VEVENT
BEGIN:VEVENT
DTSTART;TZID=America/Chicago:20260710T183000
DTEND;TZID=America/Chicago:20260710T200000
DTSTAMP:20260424T010915
CREATED:20260311T170248Z
LAST-MODIFIED:20260311T170248Z
UID:10002947-1783708200-1783713600@www.finnishbistro.com
SUMMARY:Paul Bonstrom
DESCRIPTION:
URL:https://www.finnishbistro.com/events/paul-bonstrom/
LOCATION:The Finnish Bistro\, 2264 Como Avenue\, St. Paul\, MN\, 55108\, United States
ATTACH;FMTTYPE=application/pdf:https://www.finnishbistro.com/wp-content/uploads/2026/03/Paul-Bonstrom.pdf
END:VEVENT
BEGIN:VEVENT
DTSTART;TZID=America/Chicago:20260711T183000
DTEND;TZID=America/Chicago:20260711T200000
DTSTAMP:20260424T010915
CREATED:20260209T162950Z
LAST-MODIFIED:20260209T162950Z
UID:10002907-1783794600-1783800000@www.finnishbistro.com
SUMMARY:Carlstedt Family Band
DESCRIPTION:
URL:https://www.finnishbistro.com/events/carlstedt-family-band-2/
LOCATION:The Finnish Bistro\, 2264 Como Avenue\, St. Paul\, MN\, 55108\, United States
ATTACH;FMTTYPE=application/pdf:https://www.finnishbistro.com/wp-content/uploads/2026/02/The-Carlstedt-Family-1.pdf
END:VEVENT
BEGIN:VEVENT
DTSTART;TZID=America/Chicago:20260712T103000
DTEND;TZID=America/Chicago:20260712T123000
DTSTAMP:20260424T010915
CREATED:20260331T183227Z
LAST-MODIFIED:20260331T183227Z
UID:10002982-1783852200-1783859400@www.finnishbistro.com
SUMMARY:Jun Sugiyama
DESCRIPTION:
URL:https://www.finnishbistro.com/events/jun-sugiyama/
LOCATION:The Finnish Bistro\, 2264 Como Avenue\, St. Paul\, MN\, 55108\, United States
ATTACH;FMTTYPE=application/pdf:https://www.finnishbistro.com/wp-content/uploads/2026/03/Jun-Sugiyama.pdf
END:VEVENT
BEGIN:VEVENT
DTSTART;TZID=America/Chicago:20260712T170000
DTEND;TZID=America/Chicago:20260712T200000
DTSTAMP:20260424T010915
CREATED:20241121T154518Z
LAST-MODIFIED:20241121T155744Z
UID:10001299-1783875600-1783886400@www.finnishbistro.com
SUMMARY:Open Mic
DESCRIPTION:Sign-ups start at 4:45 pm. \nMore information can be found on our Events & Music page. \n(4) Events & Music at The Finnish Bistro | Facebook
URL:https://www.finnishbistro.com/events/open-mic/2026-07-12/
LOCATION:MN
ATTACH;FMTTYPE=application/pdf:https://www.finnishbistro.com/wp-content/uploads/2024/11/Open-Mic.pdf
END:VEVENT
BEGIN:VEVENT
DTSTART;TZID=America/Chicago:20260713T090000
DTEND;TZID=America/Chicago:20260713T220000
DTSTAMP:20260424T010915
CREATED:20241121T171615Z
LAST-MODIFIED:20241121T171615Z
UID:10001565-1783933200-1783980000@www.finnishbistro.com
SUMMARY:Senior Social Hour
DESCRIPTION:
URL:https://www.finnishbistro.com/events/senior-social-hour/2026-07-13/
LOCATION:The Finnish Bistro\, 2264 Como Avenue\, St. Paul\, MN\, 55108\, United States
ATTACH;FMTTYPE=application/pdf:https://www.finnishbistro.com/wp-content/uploads/2024/11/Senior-Social-Hour.pdf
END:VEVENT
BEGIN:VEVENT
DTSTART;TZID=America/Chicago:20260715T183000
DTEND;TZID=America/Chicago:20260715T200000
DTSTAMP:20260424T010915
CREATED:20260325T151235Z
LAST-MODIFIED:20260325T152829Z
UID:10002969-1784140200-1784145600@www.finnishbistro.com
SUMMARY:Ted Hajnasiewicz & Katy Vernon
DESCRIPTION:
URL:https://www.finnishbistro.com/events/ted-hajnasiewicz-3/
LOCATION:The Finnish Bistro\, 2264 Como Avenue\, St. Paul\, MN\, 55108\, United States
ATTACH;FMTTYPE=application/pdf:https://www.finnishbistro.com/wp-content/uploads/2026/03/Ted-Hajnasiewicz.pdf
END:VEVENT
BEGIN:VEVENT
DTSTART;TZID=America/Chicago:20260716T143000
DTEND;TZID=America/Chicago:20260716T153000
DTSTAMP:20260424T010915
CREATED:20241121T171808Z
LAST-MODIFIED:20241121T171808Z
UID:10001829-1784212200-1784215800@www.finnishbistro.com
SUMMARY:Senior Social Hour
DESCRIPTION:
URL:https://www.finnishbistro.com/events/senior-social-hour-2/2026-07-16/
LOCATION:The Finnish Bistro\, 2264 Como Avenue\, St. Paul\, MN\, 55108\, United States
ATTACH;FMTTYPE=application/pdf:https://www.finnishbistro.com/wp-content/uploads/2024/11/Senior-Social-Hour-1.pdf
END:VEVENT
BEGIN:VEVENT
DTSTART;TZID=America/Chicago:20260717T183000
DTEND;TZID=America/Chicago:20260717T200000
DTSTAMP:20260424T010915
CREATED:20260325T153651Z
LAST-MODIFIED:20260325T153651Z
UID:10002970-1784313000-1784318400@www.finnishbistro.com
SUMMARY:Andy Hanson
DESCRIPTION:
URL:https://www.finnishbistro.com/events/andy-hanson/
LOCATION:The Finnish Bistro\, 2264 Como Avenue\, St. Paul\, MN\, 55108\, United States
ATTACH;FMTTYPE=application/pdf:https://www.finnishbistro.com/wp-content/uploads/2026/03/Andy-Hanson.pdf
END:VEVENT
BEGIN:VEVENT
DTSTART;TZID=America/Chicago:20260718T180000
DTEND;TZID=America/Chicago:20260718T194500
DTSTAMP:20260424T010915
CREATED:20250926T012936Z
LAST-MODIFIED:20250926T012936Z
UID:10002670-1784397600-1784403900@www.finnishbistro.com
SUMMARY:Saint Croix Acoustic
DESCRIPTION:
URL:https://www.finnishbistro.com/events/saint-croix-acoustic/2026-07-18/
LOCATION:The Finnish Bistro\, 2264 Como Avenue\, St. Paul\, MN\, 55108\, United States
ATTACH;FMTTYPE=application/pdf:https://www.finnishbistro.com/wp-content/uploads/2025/09/Saint-Croix-Acoustic.pdf
END:VEVENT
BEGIN:VEVENT
DTSTART;TZID=America/Chicago:20260719T170000
DTEND;TZID=America/Chicago:20260719T200000
DTSTAMP:20260424T010915
CREATED:20241121T154518Z
LAST-MODIFIED:20241121T155744Z
UID:10001300-1784480400-1784491200@www.finnishbistro.com
SUMMARY:Open Mic
DESCRIPTION:Sign-ups start at 4:45 pm. \nMore information can be found on our Events & Music page. \n(4) Events & Music at The Finnish Bistro | Facebook
URL:https://www.finnishbistro.com/events/open-mic/2026-07-19/
LOCATION:MN
ATTACH;FMTTYPE=application/pdf:https://www.finnishbistro.com/wp-content/uploads/2024/11/Open-Mic.pdf
END:VEVENT
BEGIN:VEVENT
DTSTART;TZID=America/Chicago:20260720T090000
DTEND;TZID=America/Chicago:20260720T220000
DTSTAMP:20260424T010915
CREATED:20241121T171615Z
LAST-MODIFIED:20241121T171615Z
UID:10001566-1784538000-1784584800@www.finnishbistro.com
SUMMARY:Senior Social Hour
DESCRIPTION:
URL:https://www.finnishbistro.com/events/senior-social-hour/2026-07-20/
LOCATION:The Finnish Bistro\, 2264 Como Avenue\, St. Paul\, MN\, 55108\, United States
ATTACH;FMTTYPE=application/pdf:https://www.finnishbistro.com/wp-content/uploads/2024/11/Senior-Social-Hour.pdf
END:VEVENT
BEGIN:VEVENT
DTSTART;TZID=America/Chicago:20260722T183000
DTEND;TZID=America/Chicago:20260722T200000
DTSTAMP:20260424T010915
CREATED:20260331T182700Z
LAST-MODIFIED:20260331T182700Z
UID:10002980-1784745000-1784750400@www.finnishbistro.com
SUMMARY:String Theory
DESCRIPTION:
URL:https://www.finnishbistro.com/events/string-theory-4/2026-07-22/
LOCATION:The Finnish Bistro\, 2264 Como Avenue\, St. Paul\, MN\, 55108\, United States
ATTACH;FMTTYPE=application/pdf:https://www.finnishbistro.com/wp-content/uploads/2026/03/String-Theory.pdf
END:VEVENT
BEGIN:VEVENT
DTSTART;TZID=America/Chicago:20260723T143000
DTEND;TZID=America/Chicago:20260723T153000
DTSTAMP:20260424T010915
CREATED:20241121T171808Z
LAST-MODIFIED:20241121T171808Z
UID:10001830-1784817000-1784820600@www.finnishbistro.com
SUMMARY:Senior Social Hour
DESCRIPTION:
URL:https://www.finnishbistro.com/events/senior-social-hour-2/2026-07-23/
LOCATION:The Finnish Bistro\, 2264 Como Avenue\, St. Paul\, MN\, 55108\, United States
ATTACH;FMTTYPE=application/pdf:https://www.finnishbistro.com/wp-content/uploads/2024/11/Senior-Social-Hour-1.pdf
END:VEVENT
BEGIN:VEVENT
DTSTART;TZID=America/Chicago:20260724T183000
DTEND;TZID=America/Chicago:20260724T200000
DTSTAMP:20260424T010915
CREATED:20260415T151151Z
LAST-MODIFIED:20260415T151151Z
UID:10003008-1784917800-1784923200@www.finnishbistro.com
SUMMARY:Oak Groove
DESCRIPTION:
URL:https://www.finnishbistro.com/events/oak-groove/
LOCATION:The Finnish Bistro\, 2264 Como Avenue\, St. Paul\, MN\, 55108\, United States
ATTACH;FMTTYPE=application/pdf:https://www.finnishbistro.com/wp-content/uploads/2026/04/Oak-Groove-new.pdf
END:VEVENT
BEGIN:VEVENT
DTSTART;TZID=America/Chicago:20260725T100000
DTEND;TZID=America/Chicago:20260725T120000
DTSTAMP:20260424T010915
CREATED:20260313T154103Z
LAST-MODIFIED:20260313T154103Z
UID:10002949-1784973600-1784980800@www.finnishbistro.com
SUMMARY:Mega Yacht
DESCRIPTION:
URL:https://www.finnishbistro.com/events/mega-yacht-3/2026-07-25/
LOCATION:The Finnish Bistro\, 2264 Como Avenue\, St. Paul\, MN\, 55108\, United States
ATTACH;FMTTYPE=application/pdf:https://www.finnishbistro.com/wp-content/uploads/2026/03/Mega-Yacht.pdf
END:VEVENT
BEGIN:VEVENT
DTSTART;TZID=America/Chicago:20260725T183000
DTEND;TZID=America/Chicago:20260725T200000
DTSTAMP:20260424T010915
CREATED:20260409T192226Z
LAST-MODIFIED:20260409T192226Z
UID:10002998-1785004200-1785009600@www.finnishbistro.com
SUMMARY:Ariel Corinne
DESCRIPTION:
URL:https://www.finnishbistro.com/events/ariel-corinne-2/2026-07-25/
LOCATION:The Finnish Bistro\, 2264 Como Avenue\, St. Paul\, MN\, 55108\, United States
ATTACH;FMTTYPE=application/pdf:https://www.finnishbistro.com/wp-content/uploads/2026/04/Ariel-Corinne.pdf
END:VEVENT
BEGIN:VEVENT
DTSTART;TZID=America/Chicago:20260726T103000
DTEND;TZID=America/Chicago:20260726T123000
DTSTAMP:20260424T010915
CREATED:20260223T161143Z
LAST-MODIFIED:20260409T191141Z
UID:10002924-1785061800-1785069000@www.finnishbistro.com
SUMMARY:Bryan Haggerty
DESCRIPTION:
URL:https://www.finnishbistro.com/events/bryan-haggerty/2026-07-26/
LOCATION:The Finnish Bistro\, 2264 Como Avenue\, St. Paul\, MN\, 55108\, United States
ATTACH;FMTTYPE=application/pdf:https://www.finnishbistro.com/wp-content/uploads/2026/02/Bryan-Haggerty-1.pdf
END:VEVENT
BEGIN:VEVENT
DTSTART;TZID=America/Chicago:20260726T170000
DTEND;TZID=America/Chicago:20260726T200000
DTSTAMP:20260424T010915
CREATED:20241121T154518Z
LAST-MODIFIED:20241121T155744Z
UID:10001301-1785085200-1785096000@www.finnishbistro.com
SUMMARY:Open Mic
DESCRIPTION:Sign-ups start at 4:45 pm. \nMore information can be found on our Events & Music page. \n(4) Events & Music at The Finnish Bistro | Facebook
URL:https://www.finnishbistro.com/events/open-mic/2026-07-26/
LOCATION:MN
ATTACH;FMTTYPE=application/pdf:https://www.finnishbistro.com/wp-content/uploads/2024/11/Open-Mic.pdf
END:VEVENT
BEGIN:VEVENT
DTSTART;TZID=America/Chicago:20260727T090000
DTEND;TZID=America/Chicago:20260727T220000
DTSTAMP:20260424T010915
CREATED:20241121T171615Z
LAST-MODIFIED:20241121T171615Z
UID:10001567-1785142800-1785189600@www.finnishbistro.com
SUMMARY:Senior Social Hour
DESCRIPTION:
URL:https://www.finnishbistro.com/events/senior-social-hour/2026-07-27/
LOCATION:The Finnish Bistro\, 2264 Como Avenue\, St. Paul\, MN\, 55108\, United States
ATTACH;FMTTYPE=application/pdf:https://www.finnishbistro.com/wp-content/uploads/2024/11/Senior-Social-Hour.pdf
END:VEVENT
BEGIN:VEVENT
DTSTART;TZID=America/Chicago:20260729T183000
DTEND;TZID=America/Chicago:20260729T200000
DTSTAMP:20260424T010915
CREATED:20260331T184412Z
LAST-MODIFIED:20260331T184412Z
UID:10002984-1785349800-1785355200@www.finnishbistro.com
SUMMARY:The Jugsluggers
DESCRIPTION:
URL:https://www.finnishbistro.com/events/the-jugsluggers/
LOCATION:The Finnish Bistro\, 2264 Como Avenue\, St. Paul\, MN\, 55108\, United States
ATTACH;FMTTYPE=application/pdf:https://www.finnishbistro.com/wp-content/uploads/2026/03/The-Jugsluggers.pdf
END:VEVENT
BEGIN:VEVENT
DTSTART;TZID=America/Chicago:20260730T143000
DTEND;TZID=America/Chicago:20260730T153000
DTSTAMP:20260424T010915
CREATED:20241121T171808Z
LAST-MODIFIED:20241121T171808Z
UID:10001831-1785421800-1785425400@www.finnishbistro.com
SUMMARY:Senior Social Hour
DESCRIPTION:
URL:https://www.finnishbistro.com/events/senior-social-hour-2/2026-07-30/
LOCATION:The Finnish Bistro\, 2264 Como Avenue\, St. Paul\, MN\, 55108\, United States
ATTACH;FMTTYPE=application/pdf:https://www.finnishbistro.com/wp-content/uploads/2024/11/Senior-Social-Hour-1.pdf
END:VEVENT
BEGIN:VEVENT
DTSTART;TZID=America/Chicago:20260731T180000
DTEND;TZID=America/Chicago:20260731T194500
DTSTAMP:20260424T010915
CREATED:20260224T153901Z
LAST-MODIFIED:20260224T153901Z
UID:10002937-1785520800-1785527100@www.finnishbistro.com
SUMMARY:Peg Meyer
DESCRIPTION:
URL:https://www.finnishbistro.com/events/peg-meyer-3/
LOCATION:The Finnish Bistro\, 2264 Como Avenue\, St. Paul\, MN\, 55108\, United States
ATTACH;FMTTYPE=application/pdf:https://www.finnishbistro.com/wp-content/uploads/2026/02/PegM.Etta_.pdf
END:VEVENT
END:VCALENDAR