BEGIN:VCALENDAR
VERSION:2.0
PRODID:-//Finnish Bistro - ECPv6.15.20//NONSGML v1.0//EN
CALSCALE:GREGORIAN
METHOD:PUBLISH
X-ORIGINAL-URL:https://www.finnishbistro.com
X-WR-CALDESC:Events for Finnish Bistro
REFRESH-INTERVAL;VALUE=DURATION:PT1H
X-Robots-Tag:noindex
X-PUBLISHED-TTL:PT1H
BEGIN:VTIMEZONE
TZID:America/Chicago
BEGIN:DAYLIGHT
TZOFFSETFROM:-0600
TZOFFSETTO:-0500
TZNAME:CDT
DTSTART:20250309T080000
END:DAYLIGHT
BEGIN:STANDARD
TZOFFSETFROM:-0500
TZOFFSETTO:-0600
TZNAME:CST
DTSTART:20251102T070000
END:STANDARD
BEGIN:DAYLIGHT
TZOFFSETFROM:-0600
TZOFFSETTO:-0500
TZNAME:CDT
DTSTART:20260308T080000
END:DAYLIGHT
BEGIN:STANDARD
TZOFFSETFROM:-0500
TZOFFSETTO:-0600
TZNAME:CST
DTSTART:20261101T070000
END:STANDARD
BEGIN:DAYLIGHT
TZOFFSETFROM:-0600
TZOFFSETTO:-0500
TZNAME:CDT
DTSTART:20270314T080000
END:DAYLIGHT
BEGIN:STANDARD
TZOFFSETFROM:-0500
TZOFFSETTO:-0600
TZNAME:CST
DTSTART:20271107T070000
END:STANDARD
END:VTIMEZONE
BEGIN:VEVENT
DTSTART;TZID=America/Chicago:20260601T090000
DTEND;TZID=America/Chicago:20260601T220000
DTSTAMP:20260423T232748
CREATED:20241121T171615Z
LAST-MODIFIED:20241121T171615Z
UID:10001559-1780304400-1780351200@www.finnishbistro.com
SUMMARY:Senior Social Hour
DESCRIPTION:
URL:https://www.finnishbistro.com/events/senior-social-hour/2026-06-01/
LOCATION:The Finnish Bistro\, 2264 Como Avenue\, St. Paul\, MN\, 55108\, United States
ATTACH;FMTTYPE=application/pdf:https://www.finnishbistro.com/wp-content/uploads/2024/11/Senior-Social-Hour.pdf
END:VEVENT
BEGIN:VEVENT
DTSTART;TZID=America/Chicago:20260603T183000
DTEND;TZID=America/Chicago:20260603T200000
DTSTAMP:20260423T232748
CREATED:20260209T153125Z
LAST-MODIFIED:20260209T153125Z
UID:10002903-1780511400-1780516800@www.finnishbistro.com
SUMMARY:Celtic Meltdown
DESCRIPTION:
URL:https://www.finnishbistro.com/events/celtic-meltdown-2/
LOCATION:The Finnish Bistro\, 2264 Como Avenue\, St. Paul\, MN\, 55108\, United States
END:VEVENT
BEGIN:VEVENT
DTSTART;TZID=America/Chicago:20260604T143000
DTEND;TZID=America/Chicago:20260604T153000
DTSTAMP:20260423T232748
CREATED:20241121T171808Z
LAST-MODIFIED:20241121T171808Z
UID:10001823-1780583400-1780587000@www.finnishbistro.com
SUMMARY:Senior Social Hour
DESCRIPTION:
URL:https://www.finnishbistro.com/events/senior-social-hour-2/2026-06-04/
LOCATION:The Finnish Bistro\, 2264 Como Avenue\, St. Paul\, MN\, 55108\, United States
ATTACH;FMTTYPE=application/pdf:https://www.finnishbistro.com/wp-content/uploads/2024/11/Senior-Social-Hour-1.pdf
END:VEVENT
BEGIN:VEVENT
DTSTART;TZID=America/Chicago:20260605T183000
DTEND;TZID=America/Chicago:20260605T200000
DTSTAMP:20260423T232748
CREATED:20251110T162952Z
LAST-MODIFIED:20251110T163059Z
UID:10002792-1780684200-1780689600@www.finnishbistro.com
SUMMARY:Clover Club
DESCRIPTION:
URL:https://www.finnishbistro.com/events/clover-club/2026-06-05/
LOCATION:The Finnish Bistro\, 2264 Como Avenue\, St. Paul\, MN\, 55108\, United States
ATTACH;FMTTYPE=application/pdf:https://www.finnishbistro.com/wp-content/uploads/2025/11/Clover-Club.pdf
END:VEVENT
BEGIN:VEVENT
DTSTART;TZID=America/Chicago:20260606T183000
DTEND;TZID=America/Chicago:20260606T200000
DTSTAMP:20260423T232748
CREATED:20251215T160107Z
LAST-MODIFIED:20251217T154722Z
UID:10002843-1780770600-1780776000@www.finnishbistro.com
SUMMARY:The Flying T
DESCRIPTION:
URL:https://www.finnishbistro.com/events/the-flying-t/2026-06-06/
LOCATION:The Finnish Bistro\, 2264 Como Avenue\, St. Paul\, MN\, 55108\, United States
ATTACH;FMTTYPE=application/pdf:https://www.finnishbistro.com/wp-content/uploads/2025/12/The-Flying-T.pdf
END:VEVENT
BEGIN:VEVENT
DTSTART;TZID=America/Chicago:20260607T110000
DTEND;TZID=America/Chicago:20260607T130000
DTSTAMP:20260423T232748
CREATED:20260409T191816Z
LAST-MODIFIED:20260409T191816Z
UID:10002997-1780830000-1780837200@www.finnishbistro.com
SUMMARY:Will Aldrich
DESCRIPTION:
URL:https://www.finnishbistro.com/events/will-aldrich/
LOCATION:The Finnish Bistro\, 2264 Como Avenue\, St. Paul\, MN\, 55108\, United States
ATTACH;FMTTYPE=application/pdf:https://www.finnishbistro.com/wp-content/uploads/2026/04/Will-Aldrich.pdf
END:VEVENT
BEGIN:VEVENT
DTSTART;TZID=America/Chicago:20260607T170000
DTEND;TZID=America/Chicago:20260607T200000
DTSTAMP:20260423T232748
CREATED:20241121T154518Z
LAST-MODIFIED:20241121T155744Z
UID:10001294-1780851600-1780862400@www.finnishbistro.com
SUMMARY:Open Mic
DESCRIPTION:Sign-ups start at 4:45 pm. \nMore information can be found on our Events & Music page. \n(4) Events & Music at The Finnish Bistro | Facebook
URL:https://www.finnishbistro.com/events/open-mic/2026-06-07/
LOCATION:MN
ATTACH;FMTTYPE=application/pdf:https://www.finnishbistro.com/wp-content/uploads/2024/11/Open-Mic.pdf
END:VEVENT
BEGIN:VEVENT
DTSTART;TZID=America/Chicago:20260608T090000
DTEND;TZID=America/Chicago:20260608T220000
DTSTAMP:20260423T232748
CREATED:20241121T171615Z
LAST-MODIFIED:20241121T171615Z
UID:10001560-1780909200-1780956000@www.finnishbistro.com
SUMMARY:Senior Social Hour
DESCRIPTION:
URL:https://www.finnishbistro.com/events/senior-social-hour/2026-06-08/
LOCATION:The Finnish Bistro\, 2264 Como Avenue\, St. Paul\, MN\, 55108\, United States
ATTACH;FMTTYPE=application/pdf:https://www.finnishbistro.com/wp-content/uploads/2024/11/Senior-Social-Hour.pdf
END:VEVENT
BEGIN:VEVENT
DTSTART;TZID=America/Chicago:20260610T183000
DTEND;TZID=America/Chicago:20260610T200000
DTSTAMP:20260423T232748
CREATED:20260316T151057Z
LAST-MODIFIED:20260316T151841Z
UID:10002957-1781116200-1781121600@www.finnishbistro.com
SUMMARY:Izzy Karr
DESCRIPTION:
URL:https://www.finnishbistro.com/events/izzy-karr/
LOCATION:The Finnish Bistro\, 2264 Como Avenue\, St. Paul\, MN\, 55108\, United States
ATTACH;FMTTYPE=application/pdf:https://www.finnishbistro.com/wp-content/uploads/2026/03/Izzy-Karr.pdf
END:VEVENT
BEGIN:VEVENT
DTSTART;TZID=America/Chicago:20260611T143000
DTEND;TZID=America/Chicago:20260611T153000
DTSTAMP:20260423T232748
CREATED:20241121T171808Z
LAST-MODIFIED:20241121T171808Z
UID:10001824-1781188200-1781191800@www.finnishbistro.com
SUMMARY:Senior Social Hour
DESCRIPTION:
URL:https://www.finnishbistro.com/events/senior-social-hour-2/2026-06-11/
LOCATION:The Finnish Bistro\, 2264 Como Avenue\, St. Paul\, MN\, 55108\, United States
ATTACH;FMTTYPE=application/pdf:https://www.finnishbistro.com/wp-content/uploads/2024/11/Senior-Social-Hour-1.pdf
END:VEVENT
BEGIN:VEVENT
DTSTART;TZID=America/Chicago:20260612T183000
DTEND;TZID=America/Chicago:20260612T200000
DTSTAMP:20260423T232748
CREATED:20260131T165518Z
LAST-MODIFIED:20260131T165518Z
UID:10002892-1781289000-1781294400@www.finnishbistro.com
SUMMARY:The Smallweeds
DESCRIPTION:
URL:https://www.finnishbistro.com/events/the-smallweeds-3/
LOCATION:The Finnish Bistro\, 2264 Como Avenue\, St. Paul\, MN\, 55108\, United States
ATTACH;FMTTYPE=application/pdf:https://www.finnishbistro.com/wp-content/uploads/2026/01/The-smallweeds.pdf
END:VEVENT
BEGIN:VEVENT
DTSTART;TZID=America/Chicago:20260613T110000
DTEND;TZID=America/Chicago:20260613T130000
DTSTAMP:20260423T232748
CREATED:20251203T151632Z
LAST-MODIFIED:20251203T151632Z
UID:10002824-1781348400-1781355600@www.finnishbistro.com
SUMMARY:Ten Penny Tunes
DESCRIPTION:
URL:https://www.finnishbistro.com/events/ten-penny-tunes/
LOCATION:The Finnish Bistro\, 2264 Como Avenue\, St. Paul\, MN\, 55108\, United States
ATTACH;FMTTYPE=application/pdf:https://www.finnishbistro.com/wp-content/uploads/2025/12/Ten-Penny-Tunes.pdf
END:VEVENT
BEGIN:VEVENT
DTSTART;TZID=America/Chicago:20260613T183000
DTEND;TZID=America/Chicago:20260613T200000
DTSTAMP:20260423T232748
CREATED:20251105T170914Z
LAST-MODIFIED:20251105T170914Z
UID:10002717-1781375400-1781380800@www.finnishbistro.com
SUMMARY:The Lindula Brothers
DESCRIPTION:
URL:https://www.finnishbistro.com/events/the-lindula-brothers/
LOCATION:The Finnish Bistro\, 2264 Como Avenue\, St. Paul\, MN\, 55108\, United States
ATTACH;FMTTYPE=application/pdf:https://www.finnishbistro.com/wp-content/uploads/2025/11/The-Lindula-Brothers.pdf
END:VEVENT
BEGIN:VEVENT
DTSTART;TZID=America/Chicago:20260614T170000
DTEND;TZID=America/Chicago:20260614T200000
DTSTAMP:20260423T232748
CREATED:20241121T154518Z
LAST-MODIFIED:20241121T155744Z
UID:10001295-1781456400-1781467200@www.finnishbistro.com
SUMMARY:Open Mic
DESCRIPTION:Sign-ups start at 4:45 pm. \nMore information can be found on our Events & Music page. \n(4) Events & Music at The Finnish Bistro | Facebook
URL:https://www.finnishbistro.com/events/open-mic/2026-06-14/
LOCATION:MN
ATTACH;FMTTYPE=application/pdf:https://www.finnishbistro.com/wp-content/uploads/2024/11/Open-Mic.pdf
END:VEVENT
BEGIN:VEVENT
DTSTART;TZID=America/Chicago:20260615T090000
DTEND;TZID=America/Chicago:20260615T220000
DTSTAMP:20260423T232748
CREATED:20241121T171615Z
LAST-MODIFIED:20241121T171615Z
UID:10001561-1781514000-1781560800@www.finnishbistro.com
SUMMARY:Senior Social Hour
DESCRIPTION:
URL:https://www.finnishbistro.com/events/senior-social-hour/2026-06-15/
LOCATION:The Finnish Bistro\, 2264 Como Avenue\, St. Paul\, MN\, 55108\, United States
ATTACH;FMTTYPE=application/pdf:https://www.finnishbistro.com/wp-content/uploads/2024/11/Senior-Social-Hour.pdf
END:VEVENT
BEGIN:VEVENT
DTSTART;TZID=America/Chicago:20260617T183000
DTEND;TZID=America/Chicago:20260617T200000
DTSTAMP:20260423T232748
CREATED:20260323T155620Z
LAST-MODIFIED:20260323T155620Z
UID:10002964-1781721000-1781726400@www.finnishbistro.com
SUMMARY:Thyme & Stardust
DESCRIPTION:
URL:https://www.finnishbistro.com/events/thyme-stardust-3/
LOCATION:The Finnish Bistro\, 2264 Como Avenue\, St. Paul\, MN\, 55108\, United States
ATTACH;FMTTYPE=application/pdf:https://www.finnishbistro.com/wp-content/uploads/2026/03/Thyme-Stardust-1.pdf
END:VEVENT
BEGIN:VEVENT
DTSTART;TZID=America/Chicago:20260618T143000
DTEND;TZID=America/Chicago:20260618T153000
DTSTAMP:20260423T232748
CREATED:20241121T171808Z
LAST-MODIFIED:20241121T171808Z
UID:10001825-1781793000-1781796600@www.finnishbistro.com
SUMMARY:Senior Social Hour
DESCRIPTION:
URL:https://www.finnishbistro.com/events/senior-social-hour-2/2026-06-18/
LOCATION:The Finnish Bistro\, 2264 Como Avenue\, St. Paul\, MN\, 55108\, United States
ATTACH;FMTTYPE=application/pdf:https://www.finnishbistro.com/wp-content/uploads/2024/11/Senior-Social-Hour-1.pdf
END:VEVENT
BEGIN:VEVENT
DTSTART;TZID=America/Chicago:20260619T183000
DTEND;TZID=America/Chicago:20260619T200000
DTSTAMP:20260423T232748
CREATED:20260223T160214Z
LAST-MODIFIED:20260223T160214Z
UID:10002922-1781893800-1781899200@www.finnishbistro.com
SUMMARY:Free Ranger
DESCRIPTION:
URL:https://www.finnishbistro.com/events/free-ranger/
LOCATION:The Finnish Bistro\, 2264 Como Avenue\, St. Paul\, MN\, 55108\, United States
ATTACH;FMTTYPE=application/pdf:https://www.finnishbistro.com/wp-content/uploads/2026/02/Free-Ranger.pdf
END:VEVENT
BEGIN:VEVENT
DTSTART;TZID=America/Chicago:20260620T103000
DTEND;TZID=America/Chicago:20260620T123000
DTSTAMP:20260423T232748
CREATED:20251202T001154Z
LAST-MODIFIED:20251202T001154Z
UID:10002819-1781951400-1781958600@www.finnishbistro.com
SUMMARY:Why Worry?
DESCRIPTION:
URL:https://www.finnishbistro.com/events/why-worry/2026-06-20/
LOCATION:The Finnish Bistro\, 2264 Como Avenue\, St. Paul\, MN\, 55108\, United States
ATTACH;FMTTYPE=application/pdf:https://www.finnishbistro.com/wp-content/uploads/2025/12/Why-Worry_-Info-2022-1.pdf
END:VEVENT
BEGIN:VEVENT
DTSTART;TZID=America/Chicago:20260620T183000
DTEND;TZID=America/Chicago:20260620T200000
DTSTAMP:20260423T232748
CREATED:20260205T153308Z
LAST-MODIFIED:20260205T153308Z
UID:10002898-1781980200-1781985600@www.finnishbistro.com
SUMMARY:Celtic Meltdown
DESCRIPTION:
URL:https://www.finnishbistro.com/events/celtic-meltdown/
LOCATION:The Finnish Bistro\, 2264 Como Avenue\, St. Paul\, MN\, 55108\, United States
END:VEVENT
BEGIN:VEVENT
DTSTART;TZID=America/Chicago:20260621T170000
DTEND;TZID=America/Chicago:20260621T200000
DTSTAMP:20260423T232748
CREATED:20241121T154518Z
LAST-MODIFIED:20241121T155744Z
UID:10001296-1782061200-1782072000@www.finnishbistro.com
SUMMARY:Open Mic
DESCRIPTION:Sign-ups start at 4:45 pm. \nMore information can be found on our Events & Music page. \n(4) Events & Music at The Finnish Bistro | Facebook
URL:https://www.finnishbistro.com/events/open-mic/2026-06-21/
LOCATION:MN
ATTACH;FMTTYPE=application/pdf:https://www.finnishbistro.com/wp-content/uploads/2024/11/Open-Mic.pdf
END:VEVENT
BEGIN:VEVENT
DTSTART;TZID=America/Chicago:20260622T090000
DTEND;TZID=America/Chicago:20260622T220000
DTSTAMP:20260423T232748
CREATED:20241121T171615Z
LAST-MODIFIED:20241121T171615Z
UID:10001562-1782118800-1782165600@www.finnishbistro.com
SUMMARY:Senior Social Hour
DESCRIPTION:
URL:https://www.finnishbistro.com/events/senior-social-hour/2026-06-22/
LOCATION:The Finnish Bistro\, 2264 Como Avenue\, St. Paul\, MN\, 55108\, United States
ATTACH;FMTTYPE=application/pdf:https://www.finnishbistro.com/wp-content/uploads/2024/11/Senior-Social-Hour.pdf
END:VEVENT
BEGIN:VEVENT
DTSTART;TZID=America/Chicago:20260624T183000
DTEND;TZID=America/Chicago:20260624T200000
DTSTAMP:20260423T232748
CREATED:20260316T150552Z
LAST-MODIFIED:20260316T150552Z
UID:10002955-1782325800-1782331200@www.finnishbistro.com
SUMMARY:Comes a Time
DESCRIPTION:
URL:https://www.finnishbistro.com/events/comes-a-time-4/2026-06-24/
LOCATION:The Finnish Bistro\, 2264 Como Avenue\, St. Paul\, MN\, 55108\, United States
ATTACH;FMTTYPE=application/pdf:https://www.finnishbistro.com/wp-content/uploads/2026/03/Comes-a-Time.pdf
END:VEVENT
BEGIN:VEVENT
DTSTART;TZID=America/Chicago:20260625T143000
DTEND;TZID=America/Chicago:20260625T153000
DTSTAMP:20260423T232748
CREATED:20241121T171808Z
LAST-MODIFIED:20241121T171808Z
UID:10001826-1782397800-1782401400@www.finnishbistro.com
SUMMARY:Senior Social Hour
DESCRIPTION:
URL:https://www.finnishbistro.com/events/senior-social-hour-2/2026-06-25/
LOCATION:The Finnish Bistro\, 2264 Como Avenue\, St. Paul\, MN\, 55108\, United States
ATTACH;FMTTYPE=application/pdf:https://www.finnishbistro.com/wp-content/uploads/2024/11/Senior-Social-Hour-1.pdf
END:VEVENT
BEGIN:VEVENT
DTSTART;TZID=America/Chicago:20260626T183000
DTEND;TZID=America/Chicago:20260626T200000
DTSTAMP:20260423T232748
CREATED:20260326T215507Z
LAST-MODIFIED:20260331T182106Z
UID:10002977-1782498600-1782504000@www.finnishbistro.com
SUMMARY:Ausen Anders
DESCRIPTION:
URL:https://www.finnishbistro.com/events/ausen-anders/
LOCATION:The Finnish Bistro\, 2264 Como Avenue\, St. Paul\, MN\, 55108\, United States
ATTACH;FMTTYPE=application/pdf:https://www.finnishbistro.com/wp-content/uploads/2026/03/Ausen-Anders.pdf
END:VEVENT
BEGIN:VEVENT
DTSTART;TZID=America/Chicago:20260627T103000
DTEND;TZID=America/Chicago:20260627T120000
DTSTAMP:20260423T232748
CREATED:20251110T161834Z
LAST-MODIFIED:20251110T161834Z
UID:10002790-1782556200-1782561600@www.finnishbistro.com
SUMMARY:Mega Yacht
DESCRIPTION:
URL:https://www.finnishbistro.com/events/mega-yacht-2/2026-06-27/
LOCATION:The Finnish Bistro\, 2264 Como Avenue\, St. Paul\, MN\, 55108\, United States
ATTACH;FMTTYPE=application/pdf:https://www.finnishbistro.com/wp-content/uploads/2025/11/Mega-Yacht.pdf
END:VEVENT
BEGIN:VEVENT
DTSTART;TZID=America/Chicago:20260627T183000
DTEND;TZID=America/Chicago:20260627T200000
DTSTAMP:20260423T232748
CREATED:20260223T165717Z
LAST-MODIFIED:20260223T165717Z
UID:10002934-1782585000-1782590400@www.finnishbistro.com
SUMMARY:Light of the Moon
DESCRIPTION:
URL:https://www.finnishbistro.com/events/light-of-the-moon/
LOCATION:The Finnish Bistro\, 2264 Como Avenue\, St. Paul\, MN\, 55108\, United States
ATTACH;FMTTYPE=application/pdf:https://www.finnishbistro.com/wp-content/uploads/2026/02/Light-of-the-Moon.pdf
END:VEVENT
BEGIN:VEVENT
DTSTART;TZID=America/Chicago:20260628T170000
DTEND;TZID=America/Chicago:20260628T200000
DTSTAMP:20260423T232748
CREATED:20241121T154518Z
LAST-MODIFIED:20241121T155744Z
UID:10001297-1782666000-1782676800@www.finnishbistro.com
SUMMARY:Open Mic
DESCRIPTION:Sign-ups start at 4:45 pm. \nMore information can be found on our Events & Music page. \n(4) Events & Music at The Finnish Bistro | Facebook
URL:https://www.finnishbistro.com/events/open-mic/2026-06-28/
LOCATION:MN
ATTACH;FMTTYPE=application/pdf:https://www.finnishbistro.com/wp-content/uploads/2024/11/Open-Mic.pdf
END:VEVENT
BEGIN:VEVENT
DTSTART;TZID=America/Chicago:20260629T090000
DTEND;TZID=America/Chicago:20260629T220000
DTSTAMP:20260423T232748
CREATED:20241121T171615Z
LAST-MODIFIED:20241121T171615Z
UID:10001563-1782723600-1782770400@www.finnishbistro.com
SUMMARY:Senior Social Hour
DESCRIPTION:
URL:https://www.finnishbistro.com/events/senior-social-hour/2026-06-29/
LOCATION:The Finnish Bistro\, 2264 Como Avenue\, St. Paul\, MN\, 55108\, United States
ATTACH;FMTTYPE=application/pdf:https://www.finnishbistro.com/wp-content/uploads/2024/11/Senior-Social-Hour.pdf
END:VEVENT
END:VCALENDAR