BEGIN:VCALENDAR
VERSION:2.0
PRODID:-//Finnish Bistro - ECPv6.15.20//NONSGML v1.0//EN
CALSCALE:GREGORIAN
METHOD:PUBLISH
X-ORIGINAL-URL:https://www.finnishbistro.com
X-WR-CALDESC:Events for Finnish Bistro
REFRESH-INTERVAL;VALUE=DURATION:PT1H
X-Robots-Tag:noindex
X-PUBLISHED-TTL:PT1H
BEGIN:VTIMEZONE
TZID:America/Chicago
BEGIN:DAYLIGHT
TZOFFSETFROM:-0600
TZOFFSETTO:-0500
TZNAME:CDT
DTSTART:20250309T080000
END:DAYLIGHT
BEGIN:STANDARD
TZOFFSETFROM:-0500
TZOFFSETTO:-0600
TZNAME:CST
DTSTART:20251102T070000
END:STANDARD
BEGIN:DAYLIGHT
TZOFFSETFROM:-0600
TZOFFSETTO:-0500
TZNAME:CDT
DTSTART:20260308T080000
END:DAYLIGHT
BEGIN:STANDARD
TZOFFSETFROM:-0500
TZOFFSETTO:-0600
TZNAME:CST
DTSTART:20261101T070000
END:STANDARD
BEGIN:DAYLIGHT
TZOFFSETFROM:-0600
TZOFFSETTO:-0500
TZNAME:CDT
DTSTART:20270314T080000
END:DAYLIGHT
BEGIN:STANDARD
TZOFFSETFROM:-0500
TZOFFSETTO:-0600
TZNAME:CST
DTSTART:20271107T070000
END:STANDARD
END:VTIMEZONE
BEGIN:VEVENT
DTSTART;TZID=America/Chicago:20260501T183000
DTEND;TZID=America/Chicago:20260501T200000
DTSTAMP:20260423T215645
CREATED:20260113T163920Z
LAST-MODIFIED:20260113T163920Z
UID:10002876-1777660200-1777665600@www.finnishbistro.com
SUMMARY:David Crittenden and Wayne Fisher
DESCRIPTION:
URL:https://www.finnishbistro.com/events/david-crittenden-and-wayne-fisher/2026-05-01/
LOCATION:The Finnish Bistro\, 2264 Como Avenue\, St. Paul\, MN\, 55108\, United States
ATTACH;FMTTYPE=application/pdf:https://www.finnishbistro.com/wp-content/uploads/2026/01/David-Crittenden-and-Wayne-Fisher.pdf
END:VEVENT
BEGIN:VEVENT
DTSTART;TZID=America/Chicago:20260502T113000
DTEND;TZID=America/Chicago:20260502T130000
DTSTAMP:20260423T215645
CREATED:20260311T163822Z
LAST-MODIFIED:20260311T163822Z
UID:10002945-1777721400-1777726800@www.finnishbistro.com
SUMMARY:Callisto
DESCRIPTION:
URL:https://www.finnishbistro.com/events/callisto/
LOCATION:The Finnish Bistro\, 2264 Como Avenue\, St. Paul\, MN\, 55108\, United States
ATTACH;FMTTYPE=application/pdf:https://www.finnishbistro.com/wp-content/uploads/2026/03/Callisto.pdf
END:VEVENT
BEGIN:VEVENT
DTSTART;TZID=America/Chicago:20260502T183000
DTEND;TZID=America/Chicago:20260502T200000
DTSTAMP:20260423T215645
CREATED:20260216T160736Z
LAST-MODIFIED:20260216T160736Z
UID:10002914-1777746600-1777752000@www.finnishbistro.com
SUMMARY:Van & Kathy Nixon
DESCRIPTION:
URL:https://www.finnishbistro.com/events/van-kathy-nixon-2/
LOCATION:The Finnish Bistro\, 2264 Como Avenue\, St. Paul\, MN\, 55108\, United States
ATTACH;FMTTYPE=application/pdf:https://www.finnishbistro.com/wp-content/uploads/2026/02/Van-Nixon.pdf
END:VEVENT
BEGIN:VEVENT
DTSTART;TZID=America/Chicago:20260503T103000
DTEND;TZID=America/Chicago:20260503T123000
DTSTAMP:20260423T215645
CREATED:20260209T154903Z
LAST-MODIFIED:20260209T154903Z
UID:10002905-1777804200-1777811400@www.finnishbistro.com
SUMMARY:Jazz on Queen
DESCRIPTION:
URL:https://www.finnishbistro.com/events/jazz-on-queen-2/
LOCATION:The Finnish Bistro\, 2264 Como Avenue\, St. Paul\, MN\, 55108\, United States
ATTACH;FMTTYPE=application/pdf:https://www.finnishbistro.com/wp-content/uploads/2026/02/Jazz-on-Queen.pdf
END:VEVENT
BEGIN:VEVENT
DTSTART;TZID=America/Chicago:20260503T170000
DTEND;TZID=America/Chicago:20260503T200000
DTSTAMP:20260423T215645
CREATED:20241121T154518Z
LAST-MODIFIED:20241121T155744Z
UID:10001289-1777827600-1777838400@www.finnishbistro.com
SUMMARY:Open Mic
DESCRIPTION:Sign-ups start at 4:45 pm. \nMore information can be found on our Events & Music page. \n(4) Events & Music at The Finnish Bistro | Facebook
URL:https://www.finnishbistro.com/events/open-mic/2026-05-03/
LOCATION:MN
ATTACH;FMTTYPE=application/pdf:https://www.finnishbistro.com/wp-content/uploads/2024/11/Open-Mic.pdf
END:VEVENT
BEGIN:VEVENT
DTSTART;TZID=America/Chicago:20260504T090000
DTEND;TZID=America/Chicago:20260504T220000
DTSTAMP:20260423T215645
CREATED:20241121T171615Z
LAST-MODIFIED:20241121T171615Z
UID:10001555-1777885200-1777932000@www.finnishbistro.com
SUMMARY:Senior Social Hour
DESCRIPTION:
URL:https://www.finnishbistro.com/events/senior-social-hour/2026-05-04/
LOCATION:The Finnish Bistro\, 2264 Como Avenue\, St. Paul\, MN\, 55108\, United States
ATTACH;FMTTYPE=application/pdf:https://www.finnishbistro.com/wp-content/uploads/2024/11/Senior-Social-Hour.pdf
END:VEVENT
BEGIN:VEVENT
DTSTART;TZID=America/Chicago:20260506T183000
DTEND;TZID=America/Chicago:20260506T200000
DTSTAMP:20260423T215645
CREATED:20260107T154039Z
LAST-MODIFIED:20260107T154039Z
UID:10002861-1778092200-1778097600@www.finnishbistro.com
SUMMARY:The Stragglers
DESCRIPTION:
URL:https://www.finnishbistro.com/events/the-stragglers-4/
LOCATION:The Finnish Bistro\, 2264 Como Avenue\, St. Paul\, MN\, 55108\, United States
ATTACH;FMTTYPE=application/pdf:https://www.finnishbistro.com/wp-content/uploads/2026/01/The-Stragglers.pdf
END:VEVENT
BEGIN:VEVENT
DTSTART;TZID=America/Chicago:20260507T143000
DTEND;TZID=America/Chicago:20260507T153000
DTSTAMP:20260423T215645
CREATED:20241121T171808Z
LAST-MODIFIED:20241121T171808Z
UID:10001819-1778164200-1778167800@www.finnishbistro.com
SUMMARY:Senior Social Hour
DESCRIPTION:
URL:https://www.finnishbistro.com/events/senior-social-hour-2/2026-05-07/
LOCATION:The Finnish Bistro\, 2264 Como Avenue\, St. Paul\, MN\, 55108\, United States
ATTACH;FMTTYPE=application/pdf:https://www.finnishbistro.com/wp-content/uploads/2024/11/Senior-Social-Hour-1.pdf
END:VEVENT
BEGIN:VEVENT
DTSTART;TZID=America/Chicago:20260508T183000
DTEND;TZID=America/Chicago:20260508T200000
DTSTAMP:20260423T215645
CREATED:20260131T172252Z
LAST-MODIFIED:20260131T172252Z
UID:10002894-1778265000-1778270400@www.finnishbistro.com
SUMMARY:Amy Finch
DESCRIPTION:
URL:https://www.finnishbistro.com/events/amy-finch/
LOCATION:The Finnish Bistro\, 2264 Como Avenue\, St. Paul\, MN\, 55108\, United States
ATTACH;FMTTYPE=application/pdf:https://www.finnishbistro.com/wp-content/uploads/2026/01/Amy-Finch.pdf
END:VEVENT
BEGIN:VEVENT
DTSTART;TZID=America/Chicago:20260509T110000
DTEND;TZID=America/Chicago:20260509T130000
DTSTAMP:20260423T215645
CREATED:20251112T155110Z
LAST-MODIFIED:20260311T165836Z
UID:10002795-1778324400-1778331600@www.finnishbistro.com
SUMMARY:Mockturnal
DESCRIPTION:
URL:https://www.finnishbistro.com/events/mockturnal-2/
LOCATION:The Finnish Bistro\, 2264 Como Avenue\, St. Paul\, MN\, 55108\, United States
ATTACH;FMTTYPE=application/pdf:https://www.finnishbistro.com/wp-content/uploads/2025/11/Mockturnal-1.pdf
END:VEVENT
BEGIN:VEVENT
DTSTART;TZID=America/Chicago:20260509T183000
DTEND;TZID=America/Chicago:20260509T200000
DTSTAMP:20260423T215645
CREATED:20260205T152249Z
LAST-MODIFIED:20260205T152249Z
UID:10002897-1778351400-1778356800@www.finnishbistro.com
SUMMARY:Eric Hans King
DESCRIPTION:
URL:https://www.finnishbistro.com/events/eric-hans-king-2/
LOCATION:The Finnish Bistro\, 2264 Como Avenue\, St. Paul\, MN\, 55108\, United States
ATTACH;FMTTYPE=application/pdf:https://www.finnishbistro.com/wp-content/uploads/2026/02/Eric-Hans-King.pdf
END:VEVENT
BEGIN:VEVENT
DTSTART;TZID=America/Chicago:20260510T110000
DTEND;TZID=America/Chicago:20260510T130000
DTSTAMP:20260423T215645
CREATED:20260323T162202Z
LAST-MODIFIED:20260325T150952Z
UID:10002967-1778410800-1778418000@www.finnishbistro.com
SUMMARY:Adam Skogman
DESCRIPTION:
URL:https://www.finnishbistro.com/events/adam-skogman/
LOCATION:The Finnish Bistro\, 2264 Como Avenue\, St. Paul\, MN\, 55108\, United States
ATTACH;FMTTYPE=application/pdf:https://www.finnishbistro.com/wp-content/uploads/2026/03/Adam-Skogman.pdf
END:VEVENT
BEGIN:VEVENT
DTSTART;TZID=America/Chicago:20260510T170000
DTEND;TZID=America/Chicago:20260510T200000
DTSTAMP:20260423T215645
CREATED:20241121T154518Z
LAST-MODIFIED:20241121T155744Z
UID:10001290-1778432400-1778443200@www.finnishbistro.com
SUMMARY:Open Mic
DESCRIPTION:Sign-ups start at 4:45 pm. \nMore information can be found on our Events & Music page. \n(4) Events & Music at The Finnish Bistro | Facebook
URL:https://www.finnishbistro.com/events/open-mic/2026-05-10/
LOCATION:MN
ATTACH;FMTTYPE=application/pdf:https://www.finnishbistro.com/wp-content/uploads/2024/11/Open-Mic.pdf
END:VEVENT
BEGIN:VEVENT
DTSTART;TZID=America/Chicago:20260511T090000
DTEND;TZID=America/Chicago:20260511T220000
DTSTAMP:20260423T215645
CREATED:20241121T171615Z
LAST-MODIFIED:20241121T171615Z
UID:10001556-1778490000-1778536800@www.finnishbistro.com
SUMMARY:Senior Social Hour
DESCRIPTION:
URL:https://www.finnishbistro.com/events/senior-social-hour/2026-05-11/
LOCATION:The Finnish Bistro\, 2264 Como Avenue\, St. Paul\, MN\, 55108\, United States
ATTACH;FMTTYPE=application/pdf:https://www.finnishbistro.com/wp-content/uploads/2024/11/Senior-Social-Hour.pdf
END:VEVENT
BEGIN:VEVENT
DTSTART;TZID=America/Chicago:20260513T183000
DTEND;TZID=America/Chicago:20260513T200000
DTSTAMP:20260423T215645
CREATED:20260223T170757Z
LAST-MODIFIED:20260223T170757Z
UID:10002935-1778697000-1778702400@www.finnishbistro.com
SUMMARY:Old Guys Play the Blues
DESCRIPTION:
URL:https://www.finnishbistro.com/events/old-guys-play-the-blues-3/
LOCATION:The Finnish Bistro\, 2264 Como Avenue\, St. Paul\, MN\, 55108\, United States
ATTACH;FMTTYPE=application/pdf:https://www.finnishbistro.com/wp-content/uploads/2026/02/The-Old-Guys-Play-The-Blues.pdf
END:VEVENT
BEGIN:VEVENT
DTSTART;TZID=America/Chicago:20260514T143000
DTEND;TZID=America/Chicago:20260514T153000
DTSTAMP:20260423T215645
CREATED:20241121T171808Z
LAST-MODIFIED:20241121T171808Z
UID:10001820-1778769000-1778772600@www.finnishbistro.com
SUMMARY:Senior Social Hour
DESCRIPTION:
URL:https://www.finnishbistro.com/events/senior-social-hour-2/2026-05-14/
LOCATION:The Finnish Bistro\, 2264 Como Avenue\, St. Paul\, MN\, 55108\, United States
ATTACH;FMTTYPE=application/pdf:https://www.finnishbistro.com/wp-content/uploads/2024/11/Senior-Social-Hour-1.pdf
END:VEVENT
BEGIN:VEVENT
DTSTART;TZID=America/Chicago:20260515T183000
DTEND;TZID=America/Chicago:20260515T200000
DTSTAMP:20260423T215645
CREATED:20260131T170455Z
LAST-MODIFIED:20260131T170455Z
UID:10002893-1778869800-1778875200@www.finnishbistro.com
SUMMARY:Nikki Walsh & Ben Siems
DESCRIPTION:
URL:https://www.finnishbistro.com/events/nikki-walsh-ben-siems/
LOCATION:The Finnish Bistro\, 2264 Como Avenue\, St. Paul\, MN\, 55108\, United States
ATTACH;FMTTYPE=application/pdf:https://www.finnishbistro.com/wp-content/uploads/2026/01/Nikki-Walsh-Ben-Siems.pdf
END:VEVENT
BEGIN:VEVENT
DTSTART;TZID=America/Chicago:20260516T103000
DTEND;TZID=America/Chicago:20260516T123000
DTSTAMP:20260423T215645
CREATED:20260401T173306Z
LAST-MODIFIED:20260401T173306Z
UID:10002986-1778927400-1778934600@www.finnishbistro.com
SUMMARY:Nick Soden
DESCRIPTION:
URL:https://www.finnishbistro.com/events/nick-soden/
LOCATION:The Finnish Bistro\, 2264 Como Avenue\, St. Paul\, MN\, 55108\, United States
END:VEVENT
BEGIN:VEVENT
DTSTART;TZID=America/Chicago:20260516T183000
DTEND;TZID=America/Chicago:20260516T200000
DTSTAMP:20260423T215645
CREATED:20260213T221823Z
LAST-MODIFIED:20260213T221823Z
UID:10002911-1778956200-1778961600@www.finnishbistro.com
SUMMARY:Monica Lynn
DESCRIPTION:
URL:https://www.finnishbistro.com/events/monica-lynn/
LOCATION:The Finnish Bistro\, 2264 Como Avenue\, St. Paul\, MN\, 55108\, United States
ATTACH;FMTTYPE=application/pdf:https://www.finnishbistro.com/wp-content/uploads/2026/02/Monica-Lynn.pdf
END:VEVENT
BEGIN:VEVENT
DTSTART;TZID=America/Chicago:20260517T103000
DTEND;TZID=America/Chicago:20260517T123000
DTSTAMP:20260423T215645
CREATED:20260223T161143Z
LAST-MODIFIED:20260409T191141Z
UID:10002923-1779013800-1779021000@www.finnishbistro.com
SUMMARY:Bryan Haggerty
DESCRIPTION:
URL:https://www.finnishbistro.com/events/bryan-haggerty/2026-05-17/
LOCATION:The Finnish Bistro\, 2264 Como Avenue\, St. Paul\, MN\, 55108\, United States
ATTACH;FMTTYPE=application/pdf:https://www.finnishbistro.com/wp-content/uploads/2026/02/Bryan-Haggerty-1.pdf
END:VEVENT
BEGIN:VEVENT
DTSTART;TZID=America/Chicago:20260517T170000
DTEND;TZID=America/Chicago:20260517T200000
DTSTAMP:20260423T215645
CREATED:20241121T154518Z
LAST-MODIFIED:20241121T155744Z
UID:10001291-1779037200-1779048000@www.finnishbistro.com
SUMMARY:Open Mic
DESCRIPTION:Sign-ups start at 4:45 pm. \nMore information can be found on our Events & Music page. \n(4) Events & Music at The Finnish Bistro | Facebook
URL:https://www.finnishbistro.com/events/open-mic/2026-05-17/
LOCATION:MN
ATTACH;FMTTYPE=application/pdf:https://www.finnishbistro.com/wp-content/uploads/2024/11/Open-Mic.pdf
END:VEVENT
BEGIN:VEVENT
DTSTART;TZID=America/Chicago:20260518T090000
DTEND;TZID=America/Chicago:20260518T220000
DTSTAMP:20260423T215645
CREATED:20241121T171615Z
LAST-MODIFIED:20241121T171615Z
UID:10001557-1779094800-1779141600@www.finnishbistro.com
SUMMARY:Senior Social Hour
DESCRIPTION:
URL:https://www.finnishbistro.com/events/senior-social-hour/2026-05-18/
LOCATION:The Finnish Bistro\, 2264 Como Avenue\, St. Paul\, MN\, 55108\, United States
ATTACH;FMTTYPE=application/pdf:https://www.finnishbistro.com/wp-content/uploads/2024/11/Senior-Social-Hour.pdf
END:VEVENT
BEGIN:VEVENT
DTSTART;TZID=America/Chicago:20260520T183000
DTEND;TZID=America/Chicago:20260520T200000
DTSTAMP:20260423T215645
CREATED:20260224T153405Z
LAST-MODIFIED:20260224T153405Z
UID:10002936-1779301800-1779307200@www.finnishbistro.com
SUMMARY:Brian Peterson
DESCRIPTION:
URL:https://www.finnishbistro.com/events/brian-peterson/
LOCATION:The Finnish Bistro\, 2264 Como Avenue\, St. Paul\, MN\, 55108\, United States
ATTACH;FMTTYPE=application/pdf:https://www.finnishbistro.com/wp-content/uploads/2026/02/Brian-Peterson.pdf
END:VEVENT
BEGIN:VEVENT
DTSTART;TZID=America/Chicago:20260521T143000
DTEND;TZID=America/Chicago:20260521T153000
DTSTAMP:20260423T215645
CREATED:20241121T171808Z
LAST-MODIFIED:20241121T171808Z
UID:10001821-1779373800-1779377400@www.finnishbistro.com
SUMMARY:Senior Social Hour
DESCRIPTION:
URL:https://www.finnishbistro.com/events/senior-social-hour-2/2026-05-21/
LOCATION:The Finnish Bistro\, 2264 Como Avenue\, St. Paul\, MN\, 55108\, United States
ATTACH;FMTTYPE=application/pdf:https://www.finnishbistro.com/wp-content/uploads/2024/11/Senior-Social-Hour-1.pdf
END:VEVENT
BEGIN:VEVENT
DTSTART;TZID=America/Chicago:20260521T183000
DTEND;TZID=America/Chicago:20260521T200000
DTSTAMP:20260423T215645
CREATED:20260331T191450Z
LAST-MODIFIED:20260331T191450Z
UID:10002985-1779388200-1779393600@www.finnishbistro.com
SUMMARY:The Bistro Showcase
DESCRIPTION:Join us at 6:30 pm for The Bistro Showcase \nHosted by Jun Sugiyama \nFeaturing Mabel Burley \nFor more information\, visit our Events & Music Facebook page
URL:https://www.finnishbistro.com/events/the-bistro-showcase-7/
LOCATION:The Finnish Bistro\, 2264 Como Avenue\, St. Paul\, MN\, 55108\, United States
ATTACH;FMTTYPE=application/pdf:https://www.finnishbistro.com/wp-content/uploads/2026/03/5.21-Showcase.pdf
END:VEVENT
BEGIN:VEVENT
DTSTART;TZID=America/Chicago:20260522T183000
DTEND;TZID=America/Chicago:20260522T200000
DTSTAMP:20260423T215645
CREATED:20260217T231345Z
LAST-MODIFIED:20260217T231345Z
UID:10002916-1779474600-1779480000@www.finnishbistro.com
SUMMARY:Parry Lamont
DESCRIPTION:
URL:https://www.finnishbistro.com/events/parry-lamont-2/
LOCATION:The Finnish Bistro\, 2264 Como Avenue\, St. Paul\, MN\, 55108\, United States
ATTACH;FMTTYPE=application/pdf:https://www.finnishbistro.com/wp-content/uploads/2026/02/Parry-Lamont.pdf
END:VEVENT
BEGIN:VEVENT
DTSTART;TZID=America/Chicago:20260523T100000
DTEND;TZID=America/Chicago:20260523T120000
DTSTAMP:20260423T215645
CREATED:20260331T184004Z
LAST-MODIFIED:20260331T184004Z
UID:10002983-1779530400-1779537600@www.finnishbistro.com
SUMMARY:The Tripping Up The Stairs Irish Band
DESCRIPTION:
URL:https://www.finnishbistro.com/events/the-tripping-up-the-stairs-irish-band/
LOCATION:The Finnish Bistro\, 2264 Como Avenue\, St. Paul\, MN\, 55108\, United States
ATTACH;FMTTYPE=application/pdf:https://www.finnishbistro.com/wp-content/uploads/2026/03/Bog-Bodies.pdf
END:VEVENT
BEGIN:VEVENT
DTSTART;TZID=America/Chicago:20260523T180000
DTEND;TZID=America/Chicago:20260523T194500
DTSTAMP:20260423T215645
CREATED:20251024T190307Z
LAST-MODIFIED:20251024T190332Z
UID:10002696-1779559200-1779565500@www.finnishbistro.com
SUMMARY:Peg Meyer
DESCRIPTION:
URL:https://www.finnishbistro.com/events/peg-meyer-2-2/
LOCATION:The Finnish Bistro\, 2264 Como Avenue\, St. Paul\, MN\, 55108\, United States
ATTACH;FMTTYPE=application/pdf:https://www.finnishbistro.com/wp-content/uploads/2025/10/PegM.Etta_.pdf
END:VEVENT
BEGIN:VEVENT
DTSTART;TZID=America/Chicago:20260524T170000
DTEND;TZID=America/Chicago:20260524T200000
DTSTAMP:20260423T215645
CREATED:20241121T154518Z
LAST-MODIFIED:20241121T155744Z
UID:10001292-1779642000-1779652800@www.finnishbistro.com
SUMMARY:Open Mic
DESCRIPTION:Sign-ups start at 4:45 pm. \nMore information can be found on our Events & Music page. \n(4) Events & Music at The Finnish Bistro | Facebook
URL:https://www.finnishbistro.com/events/open-mic/2026-05-24/
LOCATION:MN
ATTACH;FMTTYPE=application/pdf:https://www.finnishbistro.com/wp-content/uploads/2024/11/Open-Mic.pdf
END:VEVENT
BEGIN:VEVENT
DTSTART;TZID=America/Chicago:20260525T090000
DTEND;TZID=America/Chicago:20260525T220000
DTSTAMP:20260423T215645
CREATED:20241121T171615Z
LAST-MODIFIED:20241121T171615Z
UID:10001558-1779699600-1779746400@www.finnishbistro.com
SUMMARY:Senior Social Hour
DESCRIPTION:
URL:https://www.finnishbistro.com/events/senior-social-hour/2026-05-25/
LOCATION:The Finnish Bistro\, 2264 Como Avenue\, St. Paul\, MN\, 55108\, United States
ATTACH;FMTTYPE=application/pdf:https://www.finnishbistro.com/wp-content/uploads/2024/11/Senior-Social-Hour.pdf
END:VEVENT
END:VCALENDAR