BEGIN:VCALENDAR
VERSION:2.0
PRODID:-//Finnish Bistro - ECPv6.15.20//NONSGML v1.0//EN
CALSCALE:GREGORIAN
METHOD:PUBLISH
X-ORIGINAL-URL:https://www.finnishbistro.com
X-WR-CALDESC:Events for Finnish Bistro
REFRESH-INTERVAL;VALUE=DURATION:PT1H
X-Robots-Tag:noindex
X-PUBLISHED-TTL:PT1H
BEGIN:VTIMEZONE
TZID:America/Chicago
BEGIN:DAYLIGHT
TZOFFSETFROM:-0600
TZOFFSETTO:-0500
TZNAME:CDT
DTSTART:20250309T080000
END:DAYLIGHT
BEGIN:STANDARD
TZOFFSETFROM:-0500
TZOFFSETTO:-0600
TZNAME:CST
DTSTART:20251102T070000
END:STANDARD
BEGIN:DAYLIGHT
TZOFFSETFROM:-0600
TZOFFSETTO:-0500
TZNAME:CDT
DTSTART:20260308T080000
END:DAYLIGHT
BEGIN:STANDARD
TZOFFSETFROM:-0500
TZOFFSETTO:-0600
TZNAME:CST
DTSTART:20261101T070000
END:STANDARD
BEGIN:DAYLIGHT
TZOFFSETFROM:-0600
TZOFFSETTO:-0500
TZNAME:CDT
DTSTART:20270314T080000
END:DAYLIGHT
BEGIN:STANDARD
TZOFFSETFROM:-0500
TZOFFSETTO:-0600
TZNAME:CST
DTSTART:20271107T070000
END:STANDARD
END:VTIMEZONE
BEGIN:VEVENT
DTSTART;TZID=America/Chicago:20260201T100000
DTEND;TZID=America/Chicago:20260201T120000
DTSTAMP:20260423T232825
CREATED:20251202T002610Z
LAST-MODIFIED:20251202T002610Z
UID:10002822-1769940000-1769947200@www.finnishbistro.com
SUMMARY:Second Breakfast String Band
DESCRIPTION:
URL:https://www.finnishbistro.com/events/second-breakfast-string-band/
LOCATION:The Finnish Bistro\, 2264 Como Avenue\, St. Paul\, MN\, 55108\, United States
ATTACH;FMTTYPE=application/pdf:https://www.finnishbistro.com/wp-content/uploads/2025/12/Second-Breakfast-String-Band.pdf
END:VEVENT
BEGIN:VEVENT
DTSTART;TZID=America/Chicago:20260201T170000
DTEND;TZID=America/Chicago:20260201T200000
DTSTAMP:20260423T232825
CREATED:20241121T154518Z
LAST-MODIFIED:20241121T155744Z
UID:10001276-1769965200-1769976000@www.finnishbistro.com
SUMMARY:Open Mic
DESCRIPTION:Sign-ups start at 4:45 pm. \nMore information can be found on our Events & Music page. \n(4) Events & Music at The Finnish Bistro | Facebook
URL:https://www.finnishbistro.com/events/open-mic/2026-02-01/
LOCATION:MN
ATTACH;FMTTYPE=application/pdf:https://www.finnishbistro.com/wp-content/uploads/2024/11/Open-Mic.pdf
END:VEVENT
BEGIN:VEVENT
DTSTART;TZID=America/Chicago:20260202T090000
DTEND;TZID=America/Chicago:20260202T220000
DTSTAMP:20260423T232825
CREATED:20241121T171615Z
LAST-MODIFIED:20241121T171615Z
UID:10001542-1770022800-1770069600@www.finnishbistro.com
SUMMARY:Senior Social Hour
DESCRIPTION:
URL:https://www.finnishbistro.com/events/senior-social-hour/2026-02-02/
LOCATION:The Finnish Bistro\, 2264 Como Avenue\, St. Paul\, MN\, 55108\, United States
ATTACH;FMTTYPE=application/pdf:https://www.finnishbistro.com/wp-content/uploads/2024/11/Senior-Social-Hour.pdf
END:VEVENT
BEGIN:VEVENT
DTSTART;TZID=America/Chicago:20260204T183000
DTEND;TZID=America/Chicago:20260204T200000
DTSTAMP:20260423T232825
CREATED:20251024T192518Z
LAST-MODIFIED:20251024T192518Z
UID:10002701-1770229800-1770235200@www.finnishbistro.com
SUMMARY:String Theory
DESCRIPTION:
URL:https://www.finnishbistro.com/events/string-theory-2/
LOCATION:The Finnish Bistro\, 2264 Como Avenue\, St. Paul\, MN\, 55108\, United States
ATTACH;FMTTYPE=application/pdf:https://www.finnishbistro.com/wp-content/uploads/2025/10/String-Theory.pdf
END:VEVENT
BEGIN:VEVENT
DTSTART;TZID=America/Chicago:20260205T143000
DTEND;TZID=America/Chicago:20260205T153000
DTSTAMP:20260423T232825
CREATED:20241121T171808Z
LAST-MODIFIED:20241121T171808Z
UID:10001806-1770301800-1770305400@www.finnishbistro.com
SUMMARY:Senior Social Hour
DESCRIPTION:
URL:https://www.finnishbistro.com/events/senior-social-hour-2/2026-02-05/
LOCATION:The Finnish Bistro\, 2264 Como Avenue\, St. Paul\, MN\, 55108\, United States
ATTACH;FMTTYPE=application/pdf:https://www.finnishbistro.com/wp-content/uploads/2024/11/Senior-Social-Hour-1.pdf
END:VEVENT
BEGIN:VEVENT
DTSTART;TZID=America/Chicago:20260205T183000
DTEND;TZID=America/Chicago:20260205T200000
DTSTAMP:20260423T232825
CREATED:20260223T162232Z
LAST-MODIFIED:20260223T162232Z
UID:10002926-1770316200-1770321600@www.finnishbistro.com
SUMMARY:The Bistro Showcase
DESCRIPTION:Join us at 6:30 pm for The Bistro Showcase \nHosted by Jun Sugiyama \nFeaturing Boe Ross & Ryan Knight. \nFor more information\, visit our Events & Music Facebook page
URL:https://www.finnishbistro.com/events/the-bistro-showcase-18/
LOCATION:The Finnish Bistro\, 2264 Como Avenue\, St. Paul\, MN\, 55108\, United States
ATTACH;FMTTYPE=application/pdf:https://www.finnishbistro.com/wp-content/uploads/2026/02/2.5-Showcase-2.pdf
END:VEVENT
BEGIN:VEVENT
DTSTART;TZID=America/Chicago:20260206T180000
DTEND;TZID=America/Chicago:20260206T194500
DTSTAMP:20260423T232825
CREATED:20251022T145833Z
LAST-MODIFIED:20251022T145833Z
UID:10002695-1770400800-1770407100@www.finnishbistro.com
SUMMARY:Peg Meyer
DESCRIPTION:
URL:https://www.finnishbistro.com/events/peg-meyer-2/
LOCATION:The Finnish Bistro\, 2264 Como Avenue\, St. Paul\, MN\, 55108\, United States
ATTACH;FMTTYPE=application/pdf:https://www.finnishbistro.com/wp-content/uploads/2025/10/PegM.Etta_.pdf
END:VEVENT
BEGIN:VEVENT
DTSTART;TZID=America/Chicago:20260207T103000
DTEND;TZID=America/Chicago:20260207T123000
DTSTAMP:20260423T232825
CREATED:20251209T164842Z
LAST-MODIFIED:20251209T164842Z
UID:10002838-1770460200-1770467400@www.finnishbistro.com
SUMMARY:Jazz on Queen
DESCRIPTION:
URL:https://www.finnishbistro.com/events/jazz-on-queen/
LOCATION:The Finnish Bistro\, 2264 Como Avenue\, St. Paul\, MN\, 55108\, United States
ATTACH;FMTTYPE=application/pdf:https://www.finnishbistro.com/wp-content/uploads/2025/12/Jazz-on-Queen.pdf
END:VEVENT
BEGIN:VEVENT
DTSTART;TZID=America/Chicago:20260207T183000
DTEND;TZID=America/Chicago:20260207T200000
DTSTAMP:20260423T232825
CREATED:20251008T160934Z
LAST-MODIFIED:20251008T160934Z
UID:10002685-1770489000-1770494400@www.finnishbistro.com
SUMMARY:Van & Kathy Nixon
DESCRIPTION:
URL:https://www.finnishbistro.com/events/van-kathy-nixon/
LOCATION:The Finnish Bistro\, 2264 Como Avenue\, St. Paul\, MN\, 55108\, United States
ATTACH;FMTTYPE=application/pdf:https://www.finnishbistro.com/wp-content/uploads/2025/10/Van-Nixon.pdf
END:VEVENT
BEGIN:VEVENT
DTSTART;TZID=America/Chicago:20260208T110000
DTEND;TZID=America/Chicago:20260208T123000
DTSTAMP:20260423T232825
CREATED:20260107T160921Z
LAST-MODIFIED:20260107T161257Z
UID:10002864-1770548400-1770553800@www.finnishbistro.com
SUMMARY:Peter Crist
DESCRIPTION:
URL:https://www.finnishbistro.com/events/peter-crist-2/
LOCATION:The Finnish Bistro\, 2264 Como Avenue\, St. Paul\, MN\, 55108\, United States
ATTACH;FMTTYPE=application/pdf:https://www.finnishbistro.com/wp-content/uploads/2026/01/Peter-Crist.pdf
END:VEVENT
BEGIN:VEVENT
DTSTART;TZID=America/Chicago:20260208T170000
DTEND;TZID=America/Chicago:20260208T200000
DTSTAMP:20260423T232825
CREATED:20241121T154518Z
LAST-MODIFIED:20241121T155744Z
UID:10001277-1770570000-1770580800@www.finnishbistro.com
SUMMARY:Open Mic
DESCRIPTION:Sign-ups start at 4:45 pm. \nMore information can be found on our Events & Music page. \n(4) Events & Music at The Finnish Bistro | Facebook
URL:https://www.finnishbistro.com/events/open-mic/2026-02-08/
LOCATION:MN
ATTACH;FMTTYPE=application/pdf:https://www.finnishbistro.com/wp-content/uploads/2024/11/Open-Mic.pdf
END:VEVENT
BEGIN:VEVENT
DTSTART;TZID=America/Chicago:20260209T090000
DTEND;TZID=America/Chicago:20260209T220000
DTSTAMP:20260423T232825
CREATED:20241121T171615Z
LAST-MODIFIED:20241121T171615Z
UID:10001543-1770627600-1770674400@www.finnishbistro.com
SUMMARY:Senior Social Hour
DESCRIPTION:
URL:https://www.finnishbistro.com/events/senior-social-hour/2026-02-09/
LOCATION:The Finnish Bistro\, 2264 Como Avenue\, St. Paul\, MN\, 55108\, United States
ATTACH;FMTTYPE=application/pdf:https://www.finnishbistro.com/wp-content/uploads/2024/11/Senior-Social-Hour.pdf
END:VEVENT
BEGIN:VEVENT
DTSTART;TZID=America/Chicago:20260211T183000
DTEND;TZID=America/Chicago:20260211T200000
DTSTAMP:20260423T232825
CREATED:20251024T193235Z
LAST-MODIFIED:20251024T193235Z
UID:10002702-1770834600-1770840000@www.finnishbistro.com
SUMMARY:The Stragglers
DESCRIPTION:
URL:https://www.finnishbistro.com/events/the-stragglers-3/
LOCATION:The Finnish Bistro\, 2264 Como Avenue\, St. Paul\, MN\, 55108\, United States
ATTACH;FMTTYPE=application/pdf:https://www.finnishbistro.com/wp-content/uploads/2025/10/The-Stragglers.pdf
END:VEVENT
BEGIN:VEVENT
DTSTART;TZID=America/Chicago:20260212T143000
DTEND;TZID=America/Chicago:20260212T153000
DTSTAMP:20260423T232825
CREATED:20241121T171808Z
LAST-MODIFIED:20241121T171808Z
UID:10001807-1770906600-1770910200@www.finnishbistro.com
SUMMARY:Senior Social Hour
DESCRIPTION:
URL:https://www.finnishbistro.com/events/senior-social-hour-2/2026-02-12/
LOCATION:The Finnish Bistro\, 2264 Como Avenue\, St. Paul\, MN\, 55108\, United States
ATTACH;FMTTYPE=application/pdf:https://www.finnishbistro.com/wp-content/uploads/2024/11/Senior-Social-Hour-1.pdf
END:VEVENT
BEGIN:VEVENT
DTSTART;TZID=America/Chicago:20260212T183000
DTEND;TZID=America/Chicago:20260212T200000
DTSTAMP:20260423T232825
CREATED:20260223T162648Z
LAST-MODIFIED:20260223T162648Z
UID:10002927-1770921000-1770926400@www.finnishbistro.com
SUMMARY:The Bistro Showcase
DESCRIPTION:Join us at 6:30 pm for The Bistro Showcase \nHosted by Jun Sugiyama \nFeaturing Lydia Sophia\, Gabe & Ava \nFor more information\, visit our Events & Music Facebook page
URL:https://www.finnishbistro.com/events/the-bistro-showcase-20/
LOCATION:The Finnish Bistro\, 2264 Como Avenue\, St. Paul\, MN\, 55108\, United States
ATTACH;FMTTYPE=application/pdf:https://www.finnishbistro.com/wp-content/uploads/2026/02/2.12-Showcase.pdf
END:VEVENT
BEGIN:VEVENT
DTSTART;TZID=America/Chicago:20260213T183000
DTEND;TZID=America/Chicago:20260213T200000
DTSTAMP:20260423T232825
CREATED:20260119T194220Z
LAST-MODIFIED:20260119T194220Z
UID:10002881-1771007400-1771012800@www.finnishbistro.com
SUMMARY:Rancho Unicorno
DESCRIPTION:
URL:https://www.finnishbistro.com/events/rancho-unicorno/
LOCATION:The Finnish Bistro\, 2264 Como Avenue\, St. Paul\, MN\, 55108\, United States
ATTACH;FMTTYPE=application/pdf:https://www.finnishbistro.com/wp-content/uploads/2026/01/Rancho-Unicorno.pdf
END:VEVENT
BEGIN:VEVENT
DTSTART;TZID=America/Chicago:20260214T103000
DTEND;TZID=America/Chicago:20260214T123000
DTSTAMP:20260423T232825
CREATED:20251215T151931Z
LAST-MODIFIED:20251215T151931Z
UID:10002839-1771065000-1771072200@www.finnishbistro.com
SUMMARY:The Sota Trio
DESCRIPTION:
URL:https://www.finnishbistro.com/events/the-sota-trio/
LOCATION:The Finnish Bistro\, 2264 Como Avenue\, St. Paul\, MN\, 55108\, United States
ATTACH;FMTTYPE=application/pdf:https://www.finnishbistro.com/wp-content/uploads/2025/12/The-Sota-Trio.pdf
END:VEVENT
BEGIN:VEVENT
DTSTART;TZID=America/Chicago:20260214T183000
DTEND;TZID=America/Chicago:20260214T200000
DTSTAMP:20260423T232825
CREATED:20251008T163213Z
LAST-MODIFIED:20251008T163213Z
UID:10002686-1771093800-1771099200@www.finnishbistro.com
SUMMARY:Tony Wentersdorf & Mary Parker
DESCRIPTION:
URL:https://www.finnishbistro.com/events/tony-wentersdorf-mary-parker/
LOCATION:The Finnish Bistro\, 2264 Como Avenue\, St. Paul\, MN\, 55108\, United States
ATTACH;FMTTYPE=application/pdf:https://www.finnishbistro.com/wp-content/uploads/2025/10/Tony-Mary-new.pdf
END:VEVENT
BEGIN:VEVENT
DTSTART;TZID=America/Chicago:20260215T103000
DTEND;TZID=America/Chicago:20260215T123000
DTSTAMP:20260423T232825
CREATED:20260107T152301Z
LAST-MODIFIED:20260107T152301Z
UID:10002860-1771151400-1771158600@www.finnishbistro.com
SUMMARY:The New Rxs Music Therapy Fundraiser
DESCRIPTION:
URL:https://www.finnishbistro.com/events/the-new-rxs-music-therapy-fundraiser/
LOCATION:The Finnish Bistro\, 2264 Como Avenue\, St. Paul\, MN\, 55108\, United States
ATTACH;FMTTYPE=application/pdf:https://www.finnishbistro.com/wp-content/uploads/2026/01/New-Prescriptions-Finnish-Bistro-Sun-2-15-26.pdf
END:VEVENT
BEGIN:VEVENT
DTSTART;TZID=America/Chicago:20260215T170000
DTEND;TZID=America/Chicago:20260215T200000
DTSTAMP:20260423T232825
CREATED:20241121T154518Z
LAST-MODIFIED:20241121T155744Z
UID:10001278-1771174800-1771185600@www.finnishbistro.com
SUMMARY:Open Mic
DESCRIPTION:Sign-ups start at 4:45 pm. \nMore information can be found on our Events & Music page. \n(4) Events & Music at The Finnish Bistro | Facebook
URL:https://www.finnishbistro.com/events/open-mic/2026-02-15/
LOCATION:MN
ATTACH;FMTTYPE=application/pdf:https://www.finnishbistro.com/wp-content/uploads/2024/11/Open-Mic.pdf
END:VEVENT
BEGIN:VEVENT
DTSTART;TZID=America/Chicago:20260216T090000
DTEND;TZID=America/Chicago:20260216T220000
DTSTAMP:20260423T232825
CREATED:20241121T171615Z
LAST-MODIFIED:20241121T171615Z
UID:10001544-1771232400-1771279200@www.finnishbistro.com
SUMMARY:Senior Social Hour
DESCRIPTION:
URL:https://www.finnishbistro.com/events/senior-social-hour/2026-02-16/
LOCATION:The Finnish Bistro\, 2264 Como Avenue\, St. Paul\, MN\, 55108\, United States
ATTACH;FMTTYPE=application/pdf:https://www.finnishbistro.com/wp-content/uploads/2024/11/Senior-Social-Hour.pdf
END:VEVENT
BEGIN:VEVENT
DTSTART;TZID=America/Chicago:20260218T183000
DTEND;TZID=America/Chicago:20260218T200000
DTSTAMP:20260423T232825
CREATED:20250714T020528Z
LAST-MODIFIED:20250714T020528Z
UID:10002573-1771439400-1771444800@www.finnishbistro.com
SUMMARY:Austin Skalecki
DESCRIPTION:
URL:https://www.finnishbistro.com/events/austin-skalecki/
LOCATION:The Finnish Bistro\, 2264 Como Avenue\, St. Paul\, MN\, 55108\, United States
ATTACH;FMTTYPE=application/pdf:https://www.finnishbistro.com/wp-content/uploads/2025/07/Austin-Skalecki.pdf
END:VEVENT
BEGIN:VEVENT
DTSTART;TZID=America/Chicago:20260219T143000
DTEND;TZID=America/Chicago:20260219T153000
DTSTAMP:20260423T232825
CREATED:20241121T171808Z
LAST-MODIFIED:20241121T171808Z
UID:10001808-1771511400-1771515000@www.finnishbistro.com
SUMMARY:Senior Social Hour
DESCRIPTION:
URL:https://www.finnishbistro.com/events/senior-social-hour-2/2026-02-19/
LOCATION:The Finnish Bistro\, 2264 Como Avenue\, St. Paul\, MN\, 55108\, United States
ATTACH;FMTTYPE=application/pdf:https://www.finnishbistro.com/wp-content/uploads/2024/11/Senior-Social-Hour-1.pdf
END:VEVENT
BEGIN:VEVENT
DTSTART;TZID=America/Chicago:20260219T183000
DTEND;TZID=America/Chicago:20260219T200000
DTSTAMP:20260423T232825
CREATED:20260223T163147Z
LAST-MODIFIED:20260223T163147Z
UID:10002928-1771525800-1771531200@www.finnishbistro.com
SUMMARY:The Bistro Showcase
DESCRIPTION:Join us at 6:30 pm for The Bistro Showcase \nHosted by Jun Sugiyama \nFeaturing Sam Pickerign & Barbara Bow \nFor more information\, visit our Events & Music Facebook page
URL:https://www.finnishbistro.com/events/the-bistro-showcase-21/
LOCATION:The Finnish Bistro\, 2264 Como Avenue\, St. Paul\, MN\, 55108\, United States
ATTACH;FMTTYPE=application/pdf:https://www.finnishbistro.com/wp-content/uploads/2026/02/2.19-showcase.pdf
END:VEVENT
BEGIN:VEVENT
DTSTART;TZID=America/Chicago:20260220T183000
DTEND;TZID=America/Chicago:20260220T200000
DTSTAMP:20260423T232825
CREATED:20251105T162527Z
LAST-MODIFIED:20251105T162527Z
UID:10002713-1771612200-1771617600@www.finnishbistro.com
SUMMARY:Kaitlin Cassady
DESCRIPTION:
URL:https://www.finnishbistro.com/events/kaitlin-cassady/
LOCATION:The Finnish Bistro\, 2264 Como Avenue\, St. Paul\, MN\, 55108\, United States
ATTACH;FMTTYPE=application/pdf:https://www.finnishbistro.com/wp-content/uploads/2025/11/Kaitlin-Cassady.pdf
END:VEVENT
BEGIN:VEVENT
DTSTART;TZID=America/Chicago:20260221T103000
DTEND;TZID=America/Chicago:20260221T123000
DTSTAMP:20260423T232825
CREATED:20260113T154117Z
LAST-MODIFIED:20260113T154117Z
UID:10002873-1771669800-1771677000@www.finnishbistro.com
SUMMARY:Dan Rumsey
DESCRIPTION:
URL:https://www.finnishbistro.com/events/dan-rumsey/2026-02-21/
LOCATION:The Finnish Bistro\, 2264 Como Avenue\, St. Paul\, MN\, 55108\, United States
ATTACH;FMTTYPE=application/pdf:https://www.finnishbistro.com/wp-content/uploads/2026/01/Dan-Rumsey.pdf
END:VEVENT
BEGIN:VEVENT
DTSTART;TZID=America/Chicago:20260221T183000
DTEND;TZID=America/Chicago:20260221T200000
DTSTAMP:20260423T232825
CREATED:20250917T163244Z
LAST-MODIFIED:20250917T163244Z
UID:10002656-1771698600-1771704000@www.finnishbistro.com
SUMMARY:Gut Buckets
DESCRIPTION:
URL:https://www.finnishbistro.com/events/gut-buckets-2/2026-02-21/
LOCATION:The Finnish Bistro\, 2264 Como Avenue\, St. Paul\, MN\, 55108\, United States
ATTACH;FMTTYPE=application/pdf:https://www.finnishbistro.com/wp-content/uploads/2025/09/Gut-Buckets.pdf
END:VEVENT
BEGIN:VEVENT
DTSTART;TZID=America/Chicago:20260222T103000
DTEND;TZID=America/Chicago:20260222T120000
DTSTAMP:20260423T232825
CREATED:20251124T145609Z
LAST-MODIFIED:20251124T145713Z
UID:10002810-1771756200-1771761600@www.finnishbistro.com
SUMMARY:String Theory
DESCRIPTION:
URL:https://www.finnishbistro.com/events/string-theory-3/2026-02-22/
LOCATION:The Finnish Bistro\, 2264 Como Avenue\, St. Paul\, MN\, 55108\, United States
ATTACH;FMTTYPE=application/pdf:https://www.finnishbistro.com/wp-content/uploads/2025/11/String-Theory.pdf
END:VEVENT
BEGIN:VEVENT
DTSTART;TZID=America/Chicago:20260222T170000
DTEND;TZID=America/Chicago:20260222T200000
DTSTAMP:20260423T232825
CREATED:20241121T154518Z
LAST-MODIFIED:20241121T155744Z
UID:10001279-1771779600-1771790400@www.finnishbistro.com
SUMMARY:Open Mic
DESCRIPTION:Sign-ups start at 4:45 pm. \nMore information can be found on our Events & Music page. \n(4) Events & Music at The Finnish Bistro | Facebook
URL:https://www.finnishbistro.com/events/open-mic/2026-02-22/
LOCATION:MN
ATTACH;FMTTYPE=application/pdf:https://www.finnishbistro.com/wp-content/uploads/2024/11/Open-Mic.pdf
END:VEVENT
BEGIN:VEVENT
DTSTART;TZID=America/Chicago:20260223T090000
DTEND;TZID=America/Chicago:20260223T220000
DTSTAMP:20260423T232825
CREATED:20241121T171615Z
LAST-MODIFIED:20241121T171615Z
UID:10001545-1771837200-1771884000@www.finnishbistro.com
SUMMARY:Senior Social Hour
DESCRIPTION:
URL:https://www.finnishbistro.com/events/senior-social-hour/2026-02-23/
LOCATION:The Finnish Bistro\, 2264 Como Avenue\, St. Paul\, MN\, 55108\, United States
ATTACH;FMTTYPE=application/pdf:https://www.finnishbistro.com/wp-content/uploads/2024/11/Senior-Social-Hour.pdf
END:VEVENT
END:VCALENDAR