BEGIN:VCALENDAR
VERSION:2.0
PRODID:-//Finnish Bistro - ECPv6.15.20//NONSGML v1.0//EN
CALSCALE:GREGORIAN
METHOD:PUBLISH
X-ORIGINAL-URL:https://www.finnishbistro.com
X-WR-CALDESC:Events for Finnish Bistro
REFRESH-INTERVAL;VALUE=DURATION:PT1H
X-Robots-Tag:noindex
X-PUBLISHED-TTL:PT1H
BEGIN:VTIMEZONE
TZID:America/Chicago
BEGIN:DAYLIGHT
TZOFFSETFROM:-0600
TZOFFSETTO:-0500
TZNAME:CDT
DTSTART:20240310T080000
END:DAYLIGHT
BEGIN:STANDARD
TZOFFSETFROM:-0500
TZOFFSETTO:-0600
TZNAME:CST
DTSTART:20241103T070000
END:STANDARD
BEGIN:DAYLIGHT
TZOFFSETFROM:-0600
TZOFFSETTO:-0500
TZNAME:CDT
DTSTART:20250309T080000
END:DAYLIGHT
BEGIN:STANDARD
TZOFFSETFROM:-0500
TZOFFSETTO:-0600
TZNAME:CST
DTSTART:20251102T070000
END:STANDARD
BEGIN:DAYLIGHT
TZOFFSETFROM:-0600
TZOFFSETTO:-0500
TZNAME:CDT
DTSTART:20260308T080000
END:DAYLIGHT
BEGIN:STANDARD
TZOFFSETFROM:-0500
TZOFFSETTO:-0600
TZNAME:CST
DTSTART:20261101T070000
END:STANDARD
END:VTIMEZONE
BEGIN:VEVENT
DTSTART;TZID=America/Chicago:20251201T090000
DTEND;TZID=America/Chicago:20251201T220000
DTSTAMP:20260424T024903
CREATED:20241121T171615Z
LAST-MODIFIED:20241121T171615Z
UID:10001533-1764579600-1764626400@www.finnishbistro.com
SUMMARY:Senior Social Hour
DESCRIPTION:
URL:https://www.finnishbistro.com/events/senior-social-hour/2025-12-01/
LOCATION:The Finnish Bistro\, 2264 Como Avenue\, St. Paul\, MN\, 55108\, United States
ATTACH;FMTTYPE=application/pdf:https://www.finnishbistro.com/wp-content/uploads/2024/11/Senior-Social-Hour.pdf
END:VEVENT
BEGIN:VEVENT
DTSTART;TZID=America/Chicago:20251203T183000
DTEND;TZID=America/Chicago:20251203T200000
DTSTAMP:20260424T024903
CREATED:20250909T194459Z
LAST-MODIFIED:20250909T194459Z
UID:10002645-1764786600-1764792000@www.finnishbistro.com
SUMMARY:The Smallweeds
DESCRIPTION:
URL:https://www.finnishbistro.com/events/the-smallweeds-2/
LOCATION:The Finnish Bistro\, 2264 Como Avenue\, St. Paul\, MN\, 55108\, United States
ATTACH;FMTTYPE=application/pdf:https://www.finnishbistro.com/wp-content/uploads/2025/09/The-smallweeds.pdf
END:VEVENT
BEGIN:VEVENT
DTSTART;TZID=America/Chicago:20251204T143000
DTEND;TZID=America/Chicago:20251204T153000
DTSTAMP:20260424T024903
CREATED:20241121T171808Z
LAST-MODIFIED:20241121T171808Z
UID:10001797-1764858600-1764862200@www.finnishbistro.com
SUMMARY:Senior Social Hour
DESCRIPTION:
URL:https://www.finnishbistro.com/events/senior-social-hour-2/2025-12-04/
LOCATION:The Finnish Bistro\, 2264 Como Avenue\, St. Paul\, MN\, 55108\, United States
ATTACH;FMTTYPE=application/pdf:https://www.finnishbistro.com/wp-content/uploads/2024/11/Senior-Social-Hour-1.pdf
END:VEVENT
BEGIN:VEVENT
DTSTART;TZID=America/Chicago:20251204T183000
DTEND;TZID=America/Chicago:20251204T200000
DTSTAMP:20260424T024903
CREATED:20251105T173050Z
LAST-MODIFIED:20251105T173054Z
UID:10002081-1764873000-1764878400@www.finnishbistro.com
SUMMARY:The Bistro Showcase
DESCRIPTION:Join us at 6:30 pm for The Bistro Showcase \nHosted by Jun Sugiyama \nFeaturing Alec Collins & Willows & the Courage \nFor more information visit our Events & Music Facebook page
URL:https://www.finnishbistro.com/events/the-bistro-showcase-10-12/
LOCATION:The Finnish Bistro\, 2264 Como Avenue\, St. Paul\, MN\, 55108\, United States
ATTACH;FMTTYPE=application/pdf:https://www.finnishbistro.com/wp-content/uploads/2024/12/12.4-showcase.pdf
END:VEVENT
BEGIN:VEVENT
DTSTART;TZID=America/Chicago:20251205T183000
DTEND;TZID=America/Chicago:20251205T200000
DTSTAMP:20260424T024903
CREATED:20250801T191920Z
LAST-MODIFIED:20250801T191920Z
UID:10002603-1764959400-1764964800@www.finnishbistro.com
SUMMARY:Matt Yetter
DESCRIPTION:
URL:https://www.finnishbistro.com/events/matt-yetter/
LOCATION:The Finnish Bistro\, 2264 Como Avenue\, St. Paul\, MN\, 55108\, United States
ATTACH;FMTTYPE=application/pdf:https://www.finnishbistro.com/wp-content/uploads/2025/08/Matt-Yetter.pdf
END:VEVENT
BEGIN:VEVENT
DTSTART;TZID=America/Chicago:20251206T110000
DTEND;TZID=America/Chicago:20251206T130000
DTSTAMP:20260424T024903
CREATED:20250701T203425Z
LAST-MODIFIED:20250701T203425Z
UID:10002549-1765018800-1765026000@www.finnishbistro.com
SUMMARY:Ten Penny Tunes
DESCRIPTION:
URL:https://www.finnishbistro.com/events/ten-penny-tunes-4/
LOCATION:The Finnish Bistro\, 2264 Como Avenue\, St. Paul\, MN\, 55108\, United States
ATTACH;FMTTYPE=application/pdf:https://www.finnishbistro.com/wp-content/uploads/2025/07/Ten-Penny-Tunes.pdf
END:VEVENT
BEGIN:VEVENT
DTSTART;TZID=America/Chicago:20251206T183000
DTEND;TZID=America/Chicago:20251206T200000
DTSTAMP:20260424T024903
CREATED:20250823T151818Z
LAST-MODIFIED:20250823T151818Z
UID:10002625-1765045800-1765051200@www.finnishbistro.com
SUMMARY:Randall Throckmorton
DESCRIPTION:
URL:https://www.finnishbistro.com/events/randall-throckmorton/
LOCATION:The Finnish Bistro\, 2264 Como Avenue\, St. Paul\, MN\, 55108\, United States
ATTACH;FMTTYPE=application/pdf:https://www.finnishbistro.com/wp-content/uploads/2025/08/Randall-Throckmorton.pdf
END:VEVENT
BEGIN:VEVENT
DTSTART;TZID=America/Chicago:20251207T103000
DTEND;TZID=America/Chicago:20251207T123000
DTSTAMP:20260424T024903
CREATED:20251105T153104Z
LAST-MODIFIED:20251105T153104Z
UID:10002709-1765103400-1765110600@www.finnishbistro.com
SUMMARY:Bog Bodies
DESCRIPTION:
URL:https://www.finnishbistro.com/events/bog-bodies-4/
LOCATION:The Finnish Bistro\, 2264 Como Avenue\, St. Paul\, MN\, 55108\, United States
ATTACH;FMTTYPE=application/pdf:https://www.finnishbistro.com/wp-content/uploads/2025/11/Bog-Bodies.pdf
END:VEVENT
BEGIN:VEVENT
DTSTART;TZID=America/Chicago:20251207T170000
DTEND;TZID=America/Chicago:20251207T200000
DTSTAMP:20260424T024903
CREATED:20241121T154518Z
LAST-MODIFIED:20241121T155744Z
UID:10001268-1765126800-1765137600@www.finnishbistro.com
SUMMARY:Open Mic
DESCRIPTION:Sign-ups start at 4:45 pm. \nMore information can be found on our Events & Music page. \n(4) Events & Music at The Finnish Bistro | Facebook
URL:https://www.finnishbistro.com/events/open-mic/2025-12-07/
LOCATION:MN
ATTACH;FMTTYPE=application/pdf:https://www.finnishbistro.com/wp-content/uploads/2024/11/Open-Mic.pdf
END:VEVENT
BEGIN:VEVENT
DTSTART;TZID=America/Chicago:20251208T090000
DTEND;TZID=America/Chicago:20251208T220000
DTSTAMP:20260424T024903
CREATED:20241121T171615Z
LAST-MODIFIED:20241121T171615Z
UID:10001534-1765184400-1765231200@www.finnishbistro.com
SUMMARY:Senior Social Hour
DESCRIPTION:
URL:https://www.finnishbistro.com/events/senior-social-hour/2025-12-08/
LOCATION:The Finnish Bistro\, 2264 Como Avenue\, St. Paul\, MN\, 55108\, United States
ATTACH;FMTTYPE=application/pdf:https://www.finnishbistro.com/wp-content/uploads/2024/11/Senior-Social-Hour.pdf
END:VEVENT
BEGIN:VEVENT
DTSTART;TZID=America/Chicago:20251208T180000
DTEND;TZID=America/Chicago:20251208T200000
DTSTAMP:20260424T024903
CREATED:20251203T155917Z
LAST-MODIFIED:20251203T155917Z
UID:10002826-1765216800-1765224000@www.finnishbistro.com
SUMMARY:Second Harvest Heart Music Benefit
DESCRIPTION:
URL:https://www.finnishbistro.com/events/second-harvest-heart-music-benefit/
LOCATION:The Finnish Bistro\, 2264 Como Avenue\, St. Paul\, MN\, 55108\, United States
ATTACH;FMTTYPE=application/pdf:https://www.finnishbistro.com/wp-content/uploads/2025/12/Aly-Meier-Music-Benefit-Night-1.pdf
END:VEVENT
BEGIN:VEVENT
DTSTART;TZID=America/Chicago:20251209T173000
DTEND;TZID=America/Chicago:20251209T203000
DTSTAMP:20260424T024903
CREATED:20251208T231931Z
LAST-MODIFIED:20251208T231931Z
UID:10002835-1765301400-1765312200@www.finnishbistro.com
SUMMARY:Private Event (Closed)
DESCRIPTION:The Finnish Bistro will be closed from 5:30 pm to 8:30 pm for a private event. \nThank you!
URL:https://www.finnishbistro.com/events/private-event-closed/
LOCATION:The Finnish Bistro\, 2264 Como Avenue\, St. Paul\, MN\, 55108\, United States
END:VEVENT
BEGIN:VEVENT
DTSTART;TZID=America/Chicago:20251210T183000
DTEND;TZID=America/Chicago:20251210T200000
DTSTAMP:20260424T024903
CREATED:20250709T154912Z
LAST-MODIFIED:20250709T154912Z
UID:10002558-1765391400-1765396800@www.finnishbistro.com
SUMMARY:Mega Yacht
DESCRIPTION:
URL:https://www.finnishbistro.com/events/mega-yacht/2025-12-10/
LOCATION:The Finnish Bistro\, 2264 Como Avenue\, St. Paul\, MN\, 55108\, United States
ATTACH;FMTTYPE=application/pdf:https://www.finnishbistro.com/wp-content/uploads/2025/07/Mega-Yacht.pdf
END:VEVENT
BEGIN:VEVENT
DTSTART;TZID=America/Chicago:20251211T143000
DTEND;TZID=America/Chicago:20251211T153000
DTSTAMP:20260424T024903
CREATED:20241121T171808Z
LAST-MODIFIED:20241121T171808Z
UID:10001798-1765463400-1765467000@www.finnishbistro.com
SUMMARY:Senior Social Hour
DESCRIPTION:
URL:https://www.finnishbistro.com/events/senior-social-hour-2/2025-12-11/
LOCATION:The Finnish Bistro\, 2264 Como Avenue\, St. Paul\, MN\, 55108\, United States
ATTACH;FMTTYPE=application/pdf:https://www.finnishbistro.com/wp-content/uploads/2024/11/Senior-Social-Hour-1.pdf
END:VEVENT
BEGIN:VEVENT
DTSTART;TZID=America/Chicago:20251211T183000
DTEND;TZID=America/Chicago:20251211T200000
DTSTAMP:20260424T024903
CREATED:20251105T173317Z
LAST-MODIFIED:20251108T000709Z
UID:10002082-1765477800-1765483200@www.finnishbistro.com
SUMMARY:The Bistro Showcase
DESCRIPTION:Join us at 6:30 pm for The Bistro Showcase \nHosted by Jun Sugiyama \nFeaturing Mariana Rose & Marko Fields \nFor more information\, visit our Events & Music Facebook page
URL:https://www.finnishbistro.com/events/the-bistro-showcase-10-13/
LOCATION:The Finnish Bistro\, 2264 Como Avenue\, St. Paul\, MN\, 55108\, United States
ATTACH;FMTTYPE=application/pdf:https://www.finnishbistro.com/wp-content/uploads/2025/11/12.11-showcase-1.pdf
END:VEVENT
BEGIN:VEVENT
DTSTART;TZID=America/Chicago:20251212T183000
DTEND;TZID=America/Chicago:20251212T200000
DTSTAMP:20260424T024903
CREATED:20250902T232703Z
LAST-MODIFIED:20250902T232703Z
UID:10002633-1765564200-1765569600@www.finnishbistro.com
SUMMARY:Swing 6625
DESCRIPTION:
URL:https://www.finnishbistro.com/events/swing-6625/
LOCATION:The Finnish Bistro\, 2264 Como Avenue\, St. Paul\, MN\, 55108\, United States
ATTACH;FMTTYPE=application/pdf:https://www.finnishbistro.com/wp-content/uploads/2025/09/Swing-6625.pdf
END:VEVENT
BEGIN:VEVENT
DTSTART;TZID=America/Chicago:20251213T103000
DTEND;TZID=America/Chicago:20251213T123000
DTSTAMP:20260424T024903
CREATED:20250902T232409Z
LAST-MODIFIED:20250902T232409Z
UID:10002632-1765621800-1765629000@www.finnishbistro.com
SUMMARY:Markkordion
DESCRIPTION:
URL:https://www.finnishbistro.com/events/markkordion/
LOCATION:The Finnish Bistro\, 2264 Como Avenue\, St. Paul\, MN\, 55108\, United States
ATTACH;FMTTYPE=application/pdf:https://www.finnishbistro.com/wp-content/uploads/2025/09/Mark-Johnson.pdf
END:VEVENT
BEGIN:VEVENT
DTSTART;TZID=America/Chicago:20251213T183000
DTEND;TZID=America/Chicago:20251213T200000
DTSTAMP:20260424T024903
CREATED:20250623T210504Z
LAST-MODIFIED:20250623T210504Z
UID:10002544-1765650600-1765656000@www.finnishbistro.com
SUMMARY:The Flying T
DESCRIPTION:
URL:https://www.finnishbistro.com/events/the-flying-t-3/2025-12-13/
LOCATION:The Finnish Bistro\, 2264 Como Avenue\, St. Paul\, MN\, 55108\, United States
ATTACH;FMTTYPE=application/pdf:https://www.finnishbistro.com/wp-content/uploads/2025/06/The-Flying-T.pdf
END:VEVENT
BEGIN:VEVENT
DTSTART;TZID=America/Chicago:20251214T110000
DTEND;TZID=America/Chicago:20251214T130000
DTSTAMP:20260424T024903
CREATED:20251015T152057Z
LAST-MODIFIED:20251015T152057Z
UID:10002690-1765710000-1765717200@www.finnishbistro.com
SUMMARY:Ole and the Evinrudes
DESCRIPTION:
URL:https://www.finnishbistro.com/events/ole-and-the-evinrudes/
LOCATION:The Finnish Bistro\, 2264 Como Avenue\, St. Paul\, MN\, 55108\, United States
ATTACH;FMTTYPE=application/pdf:https://www.finnishbistro.com/wp-content/uploads/2025/10/Ole-and-the-Evinrudes.pdf
END:VEVENT
BEGIN:VEVENT
DTSTART;TZID=America/Chicago:20251214T170000
DTEND;TZID=America/Chicago:20251214T200000
DTSTAMP:20260424T024903
CREATED:20241121T154518Z
LAST-MODIFIED:20241121T155744Z
UID:10001269-1765731600-1765742400@www.finnishbistro.com
SUMMARY:Open Mic
DESCRIPTION:Sign-ups start at 4:45 pm. \nMore information can be found on our Events & Music page. \n(4) Events & Music at The Finnish Bistro | Facebook
URL:https://www.finnishbistro.com/events/open-mic/2025-12-14/
LOCATION:MN
ATTACH;FMTTYPE=application/pdf:https://www.finnishbistro.com/wp-content/uploads/2024/11/Open-Mic.pdf
END:VEVENT
BEGIN:VEVENT
DTSTART;TZID=America/Chicago:20251215T090000
DTEND;TZID=America/Chicago:20251215T220000
DTSTAMP:20260424T024903
CREATED:20241121T171615Z
LAST-MODIFIED:20241121T171615Z
UID:10001535-1765789200-1765836000@www.finnishbistro.com
SUMMARY:Senior Social Hour
DESCRIPTION:
URL:https://www.finnishbistro.com/events/senior-social-hour/2025-12-15/
LOCATION:The Finnish Bistro\, 2264 Como Avenue\, St. Paul\, MN\, 55108\, United States
ATTACH;FMTTYPE=application/pdf:https://www.finnishbistro.com/wp-content/uploads/2024/11/Senior-Social-Hour.pdf
END:VEVENT
BEGIN:VEVENT
DTSTART;TZID=America/Chicago:20251215T180000
DTEND;TZID=America/Chicago:20251215T200000
DTSTAMP:20260424T024903
CREATED:20251203T160123Z
LAST-MODIFIED:20251203T160123Z
UID:10002827-1765821600-1765828800@www.finnishbistro.com
SUMMARY:Second Harvest Heart Music Benefit
DESCRIPTION:
URL:https://www.finnishbistro.com/events/second-harvest-heart-music-benefit-2/
LOCATION:The Finnish Bistro\, 2264 Como Avenue\, St. Paul\, MN\, 55108\, United States
ATTACH;FMTTYPE=application/pdf:https://www.finnishbistro.com/wp-content/uploads/2025/12/Dave-Dvorak-Music-Benefit-Night.pdf
END:VEVENT
BEGIN:VEVENT
DTSTART;TZID=America/Chicago:20251217T183000
DTEND;TZID=America/Chicago:20251217T200000
DTSTAMP:20260424T024903
CREATED:20250918T160729Z
LAST-MODIFIED:20250918T160729Z
UID:10002659-1765996200-1766001600@www.finnishbistro.com
SUMMARY:Vårvinder
DESCRIPTION:
URL:https://www.finnishbistro.com/events/varvinder/
LOCATION:The Finnish Bistro\, 2264 Como Avenue\, St. Paul\, MN\, 55108\, United States
ATTACH;FMTTYPE=application/pdf:https://www.finnishbistro.com/wp-content/uploads/2025/09/Varvinder.pdf
END:VEVENT
BEGIN:VEVENT
DTSTART;TZID=America/Chicago:20251218T143000
DTEND;TZID=America/Chicago:20251218T153000
DTSTAMP:20260424T024903
CREATED:20241121T171808Z
LAST-MODIFIED:20241121T171808Z
UID:10001799-1766068200-1766071800@www.finnishbistro.com
SUMMARY:Senior Social Hour
DESCRIPTION:
URL:https://www.finnishbistro.com/events/senior-social-hour-2/2025-12-18/
LOCATION:The Finnish Bistro\, 2264 Como Avenue\, St. Paul\, MN\, 55108\, United States
ATTACH;FMTTYPE=application/pdf:https://www.finnishbistro.com/wp-content/uploads/2024/11/Senior-Social-Hour-1.pdf
END:VEVENT
BEGIN:VEVENT
DTSTART;TZID=America/Chicago:20251218T183000
DTEND;TZID=America/Chicago:20251218T200000
DTSTAMP:20260424T024903
CREATED:20251105T173952Z
LAST-MODIFIED:20251108T001120Z
UID:10002725-1766082600-1766088000@www.finnishbistro.com
SUMMARY:The Bistro Showcase
DESCRIPTION:Join us at 6:30 pm for The Bistro Showcase \nHosted by Jun Sugiyama \nFeaturing Winter Solstice Show\, Timy Night\, and Mega Flower Power. \nFor more information\, visit our Events & Music Facebook page
URL:https://www.finnishbistro.com/events/the-bistro-showcase-10/
LOCATION:The Finnish Bistro\, 2264 Como Avenue\, St. Paul\, MN\, 55108\, United States
ATTACH;FMTTYPE=application/pdf:https://www.finnishbistro.com/wp-content/uploads/2025/11/12.18-showcase.pdf
END:VEVENT
BEGIN:VEVENT
DTSTART;TZID=America/Chicago:20251219T183000
DTEND;TZID=America/Chicago:20251219T200000
DTSTAMP:20260424T024903
CREATED:20250808T184732Z
LAST-MODIFIED:20250808T184732Z
UID:10002611-1766169000-1766174400@www.finnishbistro.com
SUMMARY:Peter Crist & Yana Reko
DESCRIPTION:
URL:https://www.finnishbistro.com/events/peter-crist-yana-reko-3/
LOCATION:The Finnish Bistro\, 2264 Como Avenue\, St. Paul\, MN\, 55108\, United States
ATTACH;FMTTYPE=application/pdf:https://www.finnishbistro.com/wp-content/uploads/2025/08/Yana-and-Peter.pdf
END:VEVENT
BEGIN:VEVENT
DTSTART;TZID=America/Chicago:20251220T103000
DTEND;TZID=America/Chicago:20251220T123000
DTSTAMP:20260424T024903
CREATED:20241125T173324Z
LAST-MODIFIED:20241125T173324Z
UID:10002011-1766226600-1766233800@www.finnishbistro.com
SUMMARY:Why Worry?
DESCRIPTION:
URL:https://www.finnishbistro.com/events/why-worry-6/
LOCATION:The Finnish Bistro\, 2264 Como Avenue\, St. Paul\, MN\, 55108\, United States
ATTACH;FMTTYPE=application/pdf:https://www.finnishbistro.com/wp-content/uploads/2024/11/Why-Worry_-Info-2022-1-2.pdf
END:VEVENT
BEGIN:VEVENT
DTSTART;TZID=America/Chicago:20251220T183000
DTEND;TZID=America/Chicago:20251220T200000
DTSTAMP:20260424T024903
CREATED:20250917T163244Z
LAST-MODIFIED:20250917T163244Z
UID:10002655-1766255400-1766260800@www.finnishbistro.com
SUMMARY:Gut Buckets
DESCRIPTION:
URL:https://www.finnishbistro.com/events/gut-buckets-2/2025-12-20/
LOCATION:The Finnish Bistro\, 2264 Como Avenue\, St. Paul\, MN\, 55108\, United States
ATTACH;FMTTYPE=application/pdf:https://www.finnishbistro.com/wp-content/uploads/2025/09/Gut-Buckets.pdf
END:VEVENT
BEGIN:VEVENT
DTSTART;TZID=America/Chicago:20251221T103000
DTEND;TZID=America/Chicago:20251221T123000
DTSTAMP:20260424T024903
CREATED:20251105T164349Z
LAST-MODIFIED:20251105T164349Z
UID:10002715-1766313000-1766320200@www.finnishbistro.com
SUMMARY:Matthew Sudduth
DESCRIPTION:
URL:https://www.finnishbistro.com/events/matthew-sudduth-3/
LOCATION:The Finnish Bistro\, 2264 Como Avenue\, St. Paul\, MN\, 55108\, United States
ATTACH;FMTTYPE=application/pdf:https://www.finnishbistro.com/wp-content/uploads/2025/11/Matthew-Sudduth.pdf
END:VEVENT
BEGIN:VEVENT
DTSTART;TZID=America/Chicago:20251221T170000
DTEND;TZID=America/Chicago:20251221T200000
DTSTAMP:20260424T024903
CREATED:20241121T154518Z
LAST-MODIFIED:20241121T155744Z
UID:10001270-1766336400-1766347200@www.finnishbistro.com
SUMMARY:Open Mic
DESCRIPTION:Sign-ups start at 4:45 pm. \nMore information can be found on our Events & Music page. \n(4) Events & Music at The Finnish Bistro | Facebook
URL:https://www.finnishbistro.com/events/open-mic/2025-12-21/
LOCATION:MN
ATTACH;FMTTYPE=application/pdf:https://www.finnishbistro.com/wp-content/uploads/2024/11/Open-Mic.pdf
END:VEVENT
END:VCALENDAR