BEGIN:VCALENDAR
VERSION:2.0
PRODID:-//Finnish Bistro - ECPv6.15.20//NONSGML v1.0//EN
CALSCALE:GREGORIAN
METHOD:PUBLISH
X-ORIGINAL-URL:https://www.finnishbistro.com
X-WR-CALDESC:Events for Finnish Bistro
REFRESH-INTERVAL;VALUE=DURATION:PT1H
X-Robots-Tag:noindex
X-PUBLISHED-TTL:PT1H
BEGIN:VTIMEZONE
TZID:America/Chicago
BEGIN:DAYLIGHT
TZOFFSETFROM:-0600
TZOFFSETTO:-0500
TZNAME:CDT
DTSTART:20240310T080000
END:DAYLIGHT
BEGIN:STANDARD
TZOFFSETFROM:-0500
TZOFFSETTO:-0600
TZNAME:CST
DTSTART:20241103T070000
END:STANDARD
BEGIN:DAYLIGHT
TZOFFSETFROM:-0600
TZOFFSETTO:-0500
TZNAME:CDT
DTSTART:20250309T080000
END:DAYLIGHT
BEGIN:STANDARD
TZOFFSETFROM:-0500
TZOFFSETTO:-0600
TZNAME:CST
DTSTART:20251102T070000
END:STANDARD
BEGIN:DAYLIGHT
TZOFFSETFROM:-0600
TZOFFSETTO:-0500
TZNAME:CDT
DTSTART:20260308T080000
END:DAYLIGHT
BEGIN:STANDARD
TZOFFSETFROM:-0500
TZOFFSETTO:-0600
TZNAME:CST
DTSTART:20261101T070000
END:STANDARD
END:VTIMEZONE
BEGIN:VEVENT
DTSTART;TZID=America/Chicago:20251023T183000
DTEND;TZID=America/Chicago:20251023T200000
DTSTAMP:20260424T054933
CREATED:20250918T165100Z
LAST-MODIFIED:20250918T165105Z
UID:10002075-1761244200-1761249600@www.finnishbistro.com
SUMMARY:The Bistro Showcase
DESCRIPTION:Join us at 6:30 pm for The Bistro Showcase \nHosted by Jun Sugiyama \nFeaturing Forcing Smiles: Brian Jost & Ryan Riley \nFor more information\, visit our Events & Music Facebook page
URL:https://www.finnishbistro.com/events/the-bistro-showcase-10-10/
LOCATION:The Finnish Bistro\, 2264 Como Avenue\, St. Paul\, MN\, 55108\, United States
ATTACH;FMTTYPE=application/pdf:https://www.finnishbistro.com/wp-content/uploads/2024/12/10.-23-Showcase.pdf
END:VEVENT
BEGIN:VEVENT
DTSTART;TZID=America/Chicago:20251024T183000
DTEND;TZID=America/Chicago:20251024T200000
DTSTAMP:20260424T054933
CREATED:20250711T221732Z
LAST-MODIFIED:20250714T012950Z
UID:10002569-1761330600-1761336000@www.finnishbistro.com
SUMMARY:Zoe Grigsby
DESCRIPTION:
URL:https://www.finnishbistro.com/events/zoe/
LOCATION:The Finnish Bistro\, 2264 Como Avenue\, St. Paul\, MN\, 55108\, United States
ATTACH;FMTTYPE=application/pdf:https://www.finnishbistro.com/wp-content/uploads/2025/07/Zoe.pdf
END:VEVENT
BEGIN:VEVENT
DTSTART;TZID=America/Chicago:20251025T103000
DTEND;TZID=America/Chicago:20251025T120000
DTSTAMP:20260424T054933
CREATED:20250709T154912Z
LAST-MODIFIED:20250709T154912Z
UID:10002556-1761388200-1761393600@www.finnishbistro.com
SUMMARY:Mega Yacht
DESCRIPTION:
URL:https://www.finnishbistro.com/events/mega-yacht/2025-10-25/
LOCATION:The Finnish Bistro\, 2264 Como Avenue\, St. Paul\, MN\, 55108\, United States
ATTACH;FMTTYPE=application/pdf:https://www.finnishbistro.com/wp-content/uploads/2025/07/Mega-Yacht.pdf
END:VEVENT
BEGIN:VEVENT
DTSTART;TZID=America/Chicago:20251025T180000
DTEND;TZID=America/Chicago:20251025T194500
DTSTAMP:20260424T054933
CREATED:20250312T182620Z
LAST-MODIFIED:20250312T182622Z
UID:10002014-1761415200-1761421500@www.finnishbistro.com
SUMMARY:Saint Croix Acoustic
DESCRIPTION:
URL:https://www.finnishbistro.com/events/quinn-meyer-3-3/
LOCATION:The Finnish Bistro\, 2264 Como Avenue\, St. Paul\, MN\, 55108\, United States
ATTACH;FMTTYPE=application/pdf:https://www.finnishbistro.com/wp-content/uploads/2024/11/Saint-Croix-Acoustic-2.pdf
END:VEVENT
BEGIN:VEVENT
DTSTART;TZID=America/Chicago:20251026T110000
DTEND;TZID=America/Chicago:20251026T123000
DTSTAMP:20260424T054933
CREATED:20250902T235136Z
LAST-MODIFIED:20250902T235136Z
UID:10002634-1761476400-1761481800@www.finnishbistro.com
SUMMARY:Peter Crist
DESCRIPTION:
URL:https://www.finnishbistro.com/events/peter-crist/
LOCATION:The Finnish Bistro\, 2264 Como Avenue\, St. Paul\, MN\, 55108\, United States
ATTACH;FMTTYPE=application/pdf:https://www.finnishbistro.com/wp-content/uploads/2025/09/Peter-Crist.pdf
END:VEVENT
BEGIN:VEVENT
DTSTART;TZID=America/Chicago:20251026T170000
DTEND;TZID=America/Chicago:20251026T200000
DTSTAMP:20260424T054933
CREATED:20241121T154518Z
LAST-MODIFIED:20241121T155744Z
UID:10001262-1761498000-1761508800@www.finnishbistro.com
SUMMARY:Open Mic
DESCRIPTION:Sign-ups start at 4:45 pm. \nMore information can be found on our Events & Music page. \n(4) Events & Music at The Finnish Bistro | Facebook
URL:https://www.finnishbistro.com/events/open-mic/2025-10-26/
LOCATION:MN
ATTACH;FMTTYPE=application/pdf:https://www.finnishbistro.com/wp-content/uploads/2024/11/Open-Mic.pdf
END:VEVENT
BEGIN:VEVENT
DTSTART;TZID=America/Chicago:20251027T090000
DTEND;TZID=America/Chicago:20251027T220000
DTSTAMP:20260424T054933
CREATED:20241121T171615Z
LAST-MODIFIED:20241121T171615Z
UID:10001528-1761555600-1761602400@www.finnishbistro.com
SUMMARY:Senior Social Hour
DESCRIPTION:
URL:https://www.finnishbistro.com/events/senior-social-hour/2025-10-27/
LOCATION:The Finnish Bistro\, 2264 Como Avenue\, St. Paul\, MN\, 55108\, United States
ATTACH;FMTTYPE=application/pdf:https://www.finnishbistro.com/wp-content/uploads/2024/11/Senior-Social-Hour.pdf
END:VEVENT
BEGIN:VEVENT
DTSTART;TZID=America/Chicago:20251029T183000
DTEND;TZID=America/Chicago:20251029T200000
DTSTAMP:20260424T054933
CREATED:20250811T215509Z
LAST-MODIFIED:20250811T215509Z
UID:10002617-1761762600-1761768000@www.finnishbistro.com
SUMMARY:The Jugsluggers
DESCRIPTION:
URL:https://www.finnishbistro.com/events/the-jugsluggers-4/
LOCATION:The Finnish Bistro\, 2264 Como Avenue\, St. Paul\, MN\, 55108\, United States
ATTACH;FMTTYPE=application/pdf:https://www.finnishbistro.com/wp-content/uploads/2025/08/The-Jugsluggers.pdf
END:VEVENT
BEGIN:VEVENT
DTSTART;TZID=America/Chicago:20251030T143000
DTEND;TZID=America/Chicago:20251030T153000
DTSTAMP:20260424T054933
CREATED:20241121T171808Z
LAST-MODIFIED:20241121T171808Z
UID:10001792-1761834600-1761838200@www.finnishbistro.com
SUMMARY:Senior Social Hour
DESCRIPTION:
URL:https://www.finnishbistro.com/events/senior-social-hour-2/2025-10-30/
LOCATION:The Finnish Bistro\, 2264 Como Avenue\, St. Paul\, MN\, 55108\, United States
ATTACH;FMTTYPE=application/pdf:https://www.finnishbistro.com/wp-content/uploads/2024/11/Senior-Social-Hour-1.pdf
END:VEVENT
BEGIN:VEVENT
DTSTART;TZID=America/Chicago:20251030T183000
DTEND;TZID=America/Chicago:20251030T200000
DTSTAMP:20260424T054933
CREATED:20251105T172221Z
LAST-MODIFIED:20251105T172224Z
UID:10002076-1761849000-1761854400@www.finnishbistro.com
SUMMARY:The Bistro Showcase
DESCRIPTION:Join us at 6:30 pm for The Bistro Showcase \nHosted by Jun Sugiyama \nFeaturing Ben Hoganson \nFor more information visit our Events & Music Facebook page
URL:https://www.finnishbistro.com/events/the-bistro-showcase-10-11/
LOCATION:The Finnish Bistro\, 2264 Como Avenue\, St. Paul\, MN\, 55108\, United States
ATTACH;FMTTYPE=application/pdf:https://www.finnishbistro.com/wp-content/uploads/2024/12/10.30-showcase.pdf
END:VEVENT
BEGIN:VEVENT
DTSTART;TZID=America/Chicago:20251031T183000
DTEND;TZID=America/Chicago:20251031T200000
DTSTAMP:20260424T054933
CREATED:20250909T191916Z
LAST-MODIFIED:20250909T191916Z
UID:10002644-1761935400-1761940800@www.finnishbistro.com
SUMMARY:Kylie Weber
DESCRIPTION:
URL:https://www.finnishbistro.com/events/kylie-weber-3/
LOCATION:The Finnish Bistro\, 2264 Como Avenue\, St. Paul\, MN\, 55108\, United States
ATTACH;FMTTYPE=application/pdf:https://www.finnishbistro.com/wp-content/uploads/2025/09/Kylie-Weber.pdf
END:VEVENT
END:VCALENDAR